Workbook
Name rngFeriados: CAPA!$B$7:$H$24

Sheet ORIENTAÇÕES
B2: Planilha - Cálculo Cartão de Ponto
B4: 1º - Preencher o nome da empresa e o período inicial do cartão de ponto na planilha "CAPA";
B5: 2º - Preencher os feriados;
B6: 3º - Preencher os dados solicitados na planilha "Premissas";
B7: 4º - Criar uma planilha para cada funcionário, fazendo uma cópia a partir da planilha "MODELO";
B8: 5º - Preencher o nome do funcionário e a carga horária nos dias da semana. Caso não houver carga horária em algum dia, deixe com o valor zero;
B9: 6º - Preencher os horários de entrada e saída dos funcionários. Observe que não é necessário digitar os dois pontos ":" da hora, ex: para 12:45, digite apenas 1245;
B10: 7º - Caso tenha algum conhecimento de fórmulas e queira editar algumas, desbloqueie a planilha na aba "Revisão" >> "Desproteger Planilha". Não há senha.
B21: Verifique atualizações da planilha em: | F21: http://sourceforge.net/projects/pccp
B22: Planilha criada por Renan Araujo. Dúvidas ou sugestões, mande um e-mail para vba.renan@gmail.com | P22: Versão: | Q22: ='LOG MODIFICAÇÕES'!Q18 -> 2.1.1

Sheet LOG MODIFICAÇÕES
B2: Planilha - Cálculo Cartão de Ponto
B4: Versão 1.1 | C4: Realizado ajuste para funcionários da jornada noturna. Para o horário da meia noite, utilizar a notação de 24 horas, por exemplo, o funcionário saiu para intervalo meia noite e meia, utilizar a notação 24:30. Para uma hora da manhã utilizar a notação normal, 01:00
B5: Versão 1.2 | C5: Realizado ajuste para funcionários da jornada noturna. Cálculo estava sendo feito incorretamente quando o intervalo dava-se após a meia noite.
B6: Versão 1.3 | C6: Realizado ajuste para funcionários com carga horária diferenciada no sábado. Preencher a carga horária no campo "Sábado" que o sistema realizará o cálculo.
B7: Versão 2.0 | C7: Incuída planilha de premissas, onde pode ser ajustado a porcentagem de horas extras para cada dia da semana. Funcionalidade de carga horária diferenciada por dia da semana.
B8: Versão 2.1 | C8: Corrigido erro de cálculo no total de Horas Diárias.
B9: Versão 2.1.1 | C9: Corrigido erro no mês de fevereiro, onde aparecia erro de fórmula nos cálculos.
B18: Planilha criada por Renan Araujo. Dúvidas ou sugestões, mande um e-mail para vba.renan@gmail.com | P18: Versão atual: | Q18: 2.1.1

Sheet CAPA
B2: APONTAMENTO DE CARTÕES
B3: EMPRESA: | C3: TRANSNOVA TRANSPORTES
A4: 2 | B4: PERÍODO | C4: 42675 | D4: À | E4: =DATE(YEAR($C$4),MONTH($C$4)+1,DAY($C$4)-1) -> 42704 | I4: 2
A5: 3 | I5: 3
A6: 4 | B6: FERIADOS | I6: 4
A7: 5 | B7: 42370 | C7: =IF(B7="","",IF(WEEKDAY(B7,1)=1,"Domingo",IF(WEEKDAY(B7,1)=2,"Segunda",IF(WEEKDAY(B7,1)=3,"Terça",IF(WEEKDAY(B7,1)=4,"Quarta",IF(WEEKDAY(B7,1)=5,"Quinta",IF(WEEKDAY(B7,1)=6,"Sexta",IF(WEEKDAY(B7,1)=7,"Sábado")))))))) -> Sexta | D7: Confraternização Universal | I7: 5
A8: 6 | B8: 42433 | C8: =IF(B8="","",IF(WEEKDAY(B8,1)=1,"Domingo",IF(WEEKDAY(B8,1)=2,"Segunda",IF(WEEKDAY(B8,1)=3,"Terça",IF(WEEKDAY(B8,1)=4,"Quarta",IF(WEEKDAY(B8,1)=5,"Quinta",IF(WEEKDAY(B8,1)=6,"Sexta",IF(WEEKDAY(B8,1)=7,"Sábado")))))))) -> Sexta | D8: Carnaval | I8: 6
A9: 7 | B9: 42481 | C9: =IF(B9="","",IF(WEEKDAY(B9,1)=1,"Domingo",IF(WEEKDAY(B9,1)=2,"Segunda",IF(WEEKDAY(B9,1)=3,"Terça",IF(WEEKDAY(B9,1)=4,"Quarta",IF(WEEKDAY(B9,1)=5,"Quinta",IF(WEEKDAY(B9,1)=6,"Sexta",IF(WEEKDAY(B9,1)=7,"Sábado")))))))) -> Quinta | D9: Tiradentes | I9: 7
A10: 1 | B10: 42478 | C10: =IF(B10="","",IF(WEEKDAY(B10,1)=1,"Domingo",IF(WEEKDAY(B10,1)=2,"Segunda",IF(WEEKDAY(B10,1)=3,"Terça",IF(WEEKDAY(B10,1)=4,"Quarta",IF(WEEKDAY(B10,1)=5,"Quinta",IF(WEEKDAY(B10,1)=6,"Sexta",IF(WEEKDAY(B10,1)=7,"Sábado")))))))) -> Segunda | D10: Paixão de Cristo | I10: 1
A11: F | B11: 42491 | C11: =IF(B11="","",IF(WEEKDAY(B11,1)=1,"Domingo",IF(WEEKDAY(B11,1)=2,"Segunda",IF(WEEKDAY(B11,1)=3,"Terça",IF(WEEKDAY(B11,1)=4,"Quarta",IF(WEEKDAY(B11,1)=5,"Quinta",IF(WEEKDAY(B11,1)=6,"Sexta",IF(WEEKDAY(B11,1)=7,"Sábado")))))))) -> Domingo | D11: Dia do Trabalho | I11: F
B12: 42540 | C12: =IF(B12="","",IF(WEEKDAY(B12,1)=1,"Domingo",IF(WEEKDAY(B12,1)=2,"Segunda",IF(WEEKDAY(B12,1)=3,"Terça",IF(WEEKDAY(B12,1)=4,"Quarta",IF(WEEKDAY(B12,1)=5,"Quinta",IF(WEEKDAY(B12,1)=6,"Sexta",IF(WEEKDAY(B12,1)=7,"Sábado")))))))) -> Domingo | D12: Corpus Christi
B13: 42620 | C13: =IF(B13="","",IF(WEEKDAY(B13,1)=1,"Domingo",IF(WEEKDAY(B13,1)=2,"Segunda",IF(WEEKDAY(B13,1)=3,"Terça",IF(WEEKDAY(B13,1)=4,"Quarta",IF(WEEKDAY(B13,1)=5,"Quinta",IF(WEEKDAY(B13,1)=6,"Sexta",IF(WEEKDAY(B13,1)=7,"Sábado")))))))) -> Quarta | D13: Independência do Brasil
B14: 42655 | C14: =IF(B14="","",IF(WEEKDAY(B14,1)=1,"Domingo",IF(WEEKDAY(B14,1)=2,"Segunda",IF(WEEKDAY(B14,1)=3,"Terça",IF(WEEKDAY(B14,1)=4,"Quarta",IF(WEEKDAY(B14,1)=5,"Quinta",IF(WEEKDAY(B14,1)=6,"Sexta",IF(WEEKDAY(B14,1)=7,"Sábado")))))))) -> Quarta | D14: Nossa Senhora Aparecida (Padroeira do Brasil)
B15: 42676 | C15: =IF(B15="","",IF(WEEKDAY(B15,1)=1,"Domingo",IF(WEEKDAY(B15,1)=2,"Segunda",IF(WEEKDAY(B15,1)=3,"Terça",IF(WEEKDAY(B15,1)=4,"Quarta",IF(WEEKDAY(B15,1)=5,"Quinta",IF(WEEKDAY(B15,1)=6,"Sexta",IF(WEEKDAY(B15,1)=7,"Sábado")))))))) -> Quarta | D15: Finados
B16: 42689 | C16: =IF(B16="","",IF(WEEKDAY(B16,1)=1,"Domingo",IF(WEEKDAY(B16,1)=2,"Segunda",IF(WEEKDAY(B16,1)=3,"Terça",IF(WEEKDAY(B16,1)=4,"Quarta",IF(WEEKDAY(B16,1)=5,"Quinta",IF(WEEKDAY(B16,1)=6,"Sexta",IF(WEEKDAY(B16,1)=7,"Sábado")))))))) -> Terça | D16: Proclamação da República
B17: 42729 | C17: =IF(B17="","",IF(WEEKDAY(B17,1)=1,"Domingo",IF(WEEKDAY(B17,1)=2,"Segunda",IF(WEEKDAY(B17,1)=3,"Terça",IF(WEEKDAY(B17,1)=4,"Quarta",IF(WEEKDAY(B17,1)=5,"Quinta",IF(WEEKDAY(B17,1)=6,"Sexta",IF(WEEKDAY(B17,1)=7,"Sábado")))))))) -> Domingo | D17: Natal
B18: 42480 | C18: =IF(B18="","",IF(WEEKDAY(B18,1)=1,"Domingo",IF(WEEKDAY(B18,1)=2,"Segunda",IF(WEEKDAY(B18,1)=3,"Terça",IF(WEEKDAY(B18,1)=4,"Quarta",IF(WEEKDAY(B18,1)=5,"Quinta",IF(WEEKDAY(B18,1)=6,"Sexta",IF(WEEKDAY(B18,1)=7,"Sábado")))))))) -> Quarta | D18: Pascoa
B19: 42394 | C19: =IF(B19="","",IF(WEEKDAY(B19,1)=1,"Domingo",IF(WEEKDAY(B19,1)=2,"Segunda",IF(WEEKDAY(B19,1)=3,"Terça",IF(WEEKDAY(B19,1)=4,"Quarta",IF(WEEKDAY(B19,1)=5,"Quinta",IF(WEEKDAY(B19,1)=6,"Sexta",IF(WEEKDAY(B19,1)=7,"Sábado")))))))) -> Segunda | D19: Aniversario de São Paulo
B20: 42694 | C20: =IF(B20="","",IF(WEEKDAY(B20,1)=1,"Domingo",IF(WEEKDAY(B20,1)=2,"Segunda",IF(WEEKDAY(B20,1)=3,"Terça",IF(WEEKDAY(B20,1)=4,"Quarta",IF(WEEKDAY(B20,1)=5,"Quinta",IF(WEEKDAY(B20,1)=6,"Sexta",IF(WEEKDAY(B20,1)=7,"Sábado")))))))) -> Domingo | D20: Consciência Negra
C21: =IF(B21="","",IF(WEEKDAY(B21,1)=1,"Domingo",IF(WEEKDAY(B21,1)=2,"Segunda",IF(WEEKDAY(B21,1)=3,"Terça",IF(WEEKDAY(B21,1)=4,"Quarta",IF(WEEKDAY(B21,1)=5,"Quinta",IF(WEEKDAY(B21,1)=6,"Sexta",IF(WEEKDAY(B21,1)=7,"Sábado"))))))))
C22: =IF(B22="","",IF(WEEKDAY(B22,1)=1,"Domingo",IF(WEEKDAY(B22,1)=2,"Segunda",IF(WEEKDAY(B22,1)=3,"Terça",IF(WEEKDAY(B22,1)=4,"Quarta",IF(WEEKDAY(B22,1)=5,"Quinta",IF(WEEKDAY(B22,1)=6,"Sexta",IF(WEEKDAY(B22,1)=7,"Sábado"))))))))
C23: =IF(B23="","",IF(WEEKDAY(B23,1)=1,"Domingo",IF(WEEKDAY(B23,1)=2,"Segunda",IF(WEEKDAY(B23,1)=3,"Terça",IF(WEEKDAY(B23,1)=4,"Quarta",IF(WEEKDAY(B23,1)=5,"Quinta",IF(WEEKDAY(B23,1)=6,"Sexta",IF(WEEKDAY(B23,1)=7,"Sábado"))))))))
C24: =IF(B24="","",IF(WEEKDAY(B24,1)=1,"Domingo",IF(WEEKDAY(B24,1)=2,"Segunda",IF(WEEKDAY(B24,1)=3,"Terça",IF(WEEKDAY(B24,1)=4,"Quarta",IF(WEEKDAY(B24,1)=5,"Quinta",IF(WEEKDAY(B24,1)=6,"Sexta",IF(WEEKDAY(B24,1)=7,"Sábado"))))))))

Sheet PREMISSAS
B2: HORA EXTRA
B3: DIA DA SEMANA | C3: CÁLCULO
A4: 2 | B4: SEGUNDA-FEIRA | C4: AS | D4: 0.33333333 | E4: PRIMEIRAS HORAS SERÃO | F4: 0.5 | G4: AS DEMAIS SERÃO | H4: 0.5 | I4: 2
A5: 3 | B5: TERÇA-FEIRA | C5: AS | D5: 0.33333333 | E5: PRIMEIRAS HORAS SERÃO | F5: 0.5 | G5: AS DEMAIS SERÃO | H5: 0.5 | I5: 3
A6: 4 | B6: QUARTA-FEIRA | C6: AS | D6: 0.33333333 | E6: PRIMEIRAS HORAS SERÃO | F6: 0.5 | G6: AS DEMAIS SERÃO | H6: 0.5 | I6: 4
A7: 5 | B7: QUINTA-FEIRA | C7: AS | D7: 0.33333333 | E7: PRIMEIRAS HORAS SERÃO | F7: 0.5 | G7: AS DEMAIS SERÃO | H7: 0.5 | I7: 5
A8: 6 | B8: SEXTA-FEIRA | C8: AS | D8: 0.33333333 | E8: PRIMEIRAS HORAS SERÃO | F8: 0.5 | G8: AS DEMAIS SERÃO | H8: 0.5 | I8: 6
A9: 7 | B9: SÁBADO | C9: AS | D9: 0.041666667 | E9: PRIMEIRAS HORAS SERÃO | F9: 1 | G9: AS DEMAIS SERÃO | H9: 0.5 | I9: 7
A10: 1 | B10: DOMINGO | C10: AS | D10: 0.041666667 | E10: PRIMEIRAS HORAS SERÃO | F10: 1 | G10: AS DEMAIS SERÃO | H10: 0.5 | I10: 1
A11: F | B11: FERIADOS | C11: AS | D11: 0.041666667 | E11: PRIMEIRAS HORAS SERÃO | F11: 1 | G11: AS DEMAIS SERÃO | H11: 0.5 | I11: F
B13: ADICIONAL NOTURNO
A14: =MOD($D$14-$C$14,1) -> 0.29166667 | B14: INTERVALO A.N. | C14: 0.91666667 | D14: 0.20833333 | E14: ="TOTAL: "&TEXT(MOD(D14-C14,1),"[hh]:mm") -> TOTAL: 07:00 | I14: =MOD($D$14-$C$14,1) -> 0.29166667

Sheet NOME DO COLABORADOR
B2: =CAPA!$C$3 -> TRANSNOVA TRANSPORTES
B4: Funcionário | D4: MARCOS ANTONIO FERREIRA FLORENTINO | I4: H.E. / Atrasos / A.N | Q4: Distrib. H.E. p/ Faixa | U4: CARGA HORÁRIA | Y4: ESPELHO
B6: Data | C6: Dia Semana | D6: Entrada | E6: Saída | F6: Entrada | G6: Saída | I6: H. Diária | K6: Atrasos | M6: Horas Extras | O6: A.N. | Q6: 1ª Faixa | S6: 2ª Faixa | T6: 2 | U6: SEGUNDA | V6: 0.375 | W6: 2 | Y6: Entrada | Z6: Saída | AA6: Entrada | AB6: Saída
A7: =IF(NOT(ISERROR(VLOOKUP(B7,rngFeriados,1,FALSE))),"F",IF(B7="","",WEEKDAY($B7,1))) -> 3 | B7: =CAPA!$C$4 -> 42675 | C7: =IF(B7="","",IF(WEEKDAY(B7,1)=1,"Domingo",IF(WEEKDAY(B7,1)=2,"Segunda",IF(WEEKDAY(B7,1)=3,"Terça",IF(WEEKDAY(B7,1)=4,"Quarta",IF(WEEKDAY(B7,1)=5,"Quinta",IF(WEEKDAY(B7,1)=6,"Sexta",IF(WEEKDAY(B7,1)=7,"Sábado")))))))) -> Terça | D7: 336 | E7: 1200 | F7: 1200 | G7: 2049 | I7: =IF(ISERROR(IF(OR($Z7="",$Z7=0),0,(IF(TEXT($Z7,"[hh]:mm:ss")<TEXT($Y7,"[hh]:mm:ss"),(1-$Y7+$Z7),$Z7-$Y7))+IF(OR($AB7="",$AB7=0),0,(IF(TEXT($AB7,"[hh]:mm:ss")<TEXT($AA7,"[hh]:mm:ss"),(1-$AA7+$AB7),$AB7-$AA7))))),0,IF(OR($Z7="",$Z7=0),0,(IF(TEXT($Z7,"[hh]:mm:ss")<TEXT($Y7,"[hh]:mm:ss"),(1-$Y7+$Z7),$Z7-$Y7))+IF(OR($AB7="",$AB7=0),0,(IF(TEXT($AB7,"[hh]:mm:ss")<TEXT($AA7,"[hh]:mm:ss"),(1-$AA7+$AB7),$AB7-$AA7))))) -> 0.71736111 | K7: =IF($A7="",0,IF(OR((VLOOKUP($A7,$T$6:$V$13,3,FALSE)-$I7)<0,$Y7=""),0,(VLOOKUP($A7,$T$6:$V$13,3,FALSE)-$I7))) -> 0 | M7: =IF($A7="",0,IF(($I7-VLOOKUP($A7,$T$6:$V$13,3,FALSE))<0,0,($I7-VLOOKUP($A7,$T$6:$V$13,3,FALSE)))) -> 0.34236111 | Q7: =IF($A7="",0,IF($M7<=VLOOKUP($A7,PREMISSAS!$A$4:$H$11,4,FALSE),$M7,VLOOKUP($A7,PREMISSAS!$A$4:$H$11,4,FALSE))) -> 0.33333333 | S7: =IF($A7="",0,IF($M7>VLOOKUP($A7,PREMISSAS!$A$4:$H$11,4,FALSE),$M7-VLOOKUP($A7,PREMISSAS!$A$4:$H$11,4,FALSE),0)) -> 0.0090277778 | T7: 3 | U7: TERÇA | V7: 0.375 | W7: 3 | Y7: =IF(OR(D7="",D7=0,D7="FALTA",D7="SUSPENSO",D7="SUSPENSÃO"),"",TEXT(D7,"##"":""##")) -> 3:36 | Z7: =IF(OR(E7="",E7=0,E7="FALTA",E7="SUSPENSO",E7="SUSPENSÃO"),"",TEXT(E7,"##"":""##")) -> 12:00 | AA7: =IF(OR(F7="",F7=0,F7="FALTA",F7="SUSPENSO",F7="SUSPENSÃO"),"",TEXT(F7,"##"":""##")) -> 12:00 | AB7: =IF(OR(G7="",G7=0,G7="FALTA",G7="SUSPENSO",G7="SUSPENSÃO"),"",TEXT(G7,"##"":""##")) -> 20:49
A8: =IF(NOT(ISERROR(VLOOKUP(B8,rngFeriados,1,FALSE))),"F",IF(B8="","",WEEKDAY($B8,1))) -> F | B8: =IF(B7="","",IF((B7+1)>CAPA!$E$4,"",B7+1)) -> 42676 | C8: =IF(B8="","",IF(WEEKDAY(B8,1)=1,"Domingo",IF(WEEKDAY(B8,1)=2,"Segunda",IF(WEEKDAY(B8,1)=3,"Terça",IF(WEEKDAY(B8,1)=4,"Quarta",IF(WEEKDAY(B8,1)=5,"Quinta",IF(WEEKDAY(B8,1)=6,"Sexta",IF(WEEKDAY(B8,1)=7,"Sábado")))))))) -> Quarta | I8: =IF(ISERROR(IF(OR($Z8="",$Z8=0),0,(IF(TEXT($Z8,"[hh]:mm:ss")<TEXT($Y8,"[hh]:mm:ss"),(1-$Y8+$Z8),$Z8-$Y8))+IF(OR($AB8="",$AB8=0),0,(IF(TEXT($AB8,"[hh]:mm:ss")<TEXT($AA8,"[hh]:mm:ss"),(1-$AA8+$AB8),$AB8-$AA8))))),0,IF(OR($Z8="",$Z8=0),0,(IF(TEXT($Z8,"[hh]:mm:ss")<TEXT($Y8,"[hh]:mm:ss"),(1-$Y8+$Z8),$Z8-$Y8))+IF(OR($AB8="",$AB8=0),0,(IF(TEXT($AB8,"[hh]:mm:ss")<TEXT($AA8,"[hh]:mm:ss"),(1-$AA8+$AB8),$AB8-$AA8))))) -> 0 | K8: =IF($A8="",0,IF(OR((VLOOKUP($A8,$T$6:$V$13,3,FALSE)-$I8)<0,$Y8=""),0,(VLOOKUP($A8,$T$6:$V$13,3,FALSE)-$I8))) -> 0 | M8: =IF($A8="",0,IF(($I8-VLOOKUP($A8,$T$6:$V$13,3,FALSE))<0,0,($I8-VLOOKUP($A8,$T$6:$V$13,3,FALSE)))) -> 0 | Q8: =IF($A8="",0,IF($M8<=VLOOKUP($A8,PREMISSAS!$A$4:$H$11,4,FALSE),$M8,VLOOKUP($A8,PREMISSAS!$A$4:$H$11,4,FALSE))) -> 0 | S8: =IF($A8="",0,IF($M8>VLOOKUP($A8,PREMISSAS!$A$4:$H$11,4,FALSE),$M8-VLOOKUP($A8,PREMISSAS!$A$4:$H$11,4,FALSE),0)) -> 0 | T8: 4 | U8: QUARTA | V8: 0.375 | W8: 4 | Y8: =IF(OR(D8="",D8=0,D8="FALTA",D8="SUSPENSO",D8="SUSPENSÃO"),"",TEXT(D8,"##"":""##")) | Z8: =IF(OR(E8="",E8=0,E8="FALTA",E8="SUSPENSO",E8="SUSPENSÃO"),"",TEXT(E8,"##"":""##")) | AA8: =IF(OR(F8="",F8=0,F8="FALTA",F8="SUSPENSO",F8="SUSPENSÃO"),"",TEXT(F8,"##"":""##")) | AB8: =IF(OR(G8="",G8=0,G8="FALTA",G8="SUSPENSO",G8="SUSPENSÃO"),"",TEXT(G8,"##"":""##"))
A9: =IF(NOT(ISERROR(VLOOKUP(B9,rngFeriados,1,FALSE))),"F",IF(B9="","",WEEKDAY($B9,1))) -> 5 | B9: =IF(B8="","",IF((B8+1)>CAPA!$E$4,"",B8+1)) -> 42677 | C9: =IF(B9="","",IF(WEEKDAY(B9,1)=1,"Domingo",IF(WEEKDAY(B9,1)=2,"Segunda",IF(WEEKDAY(B9,1)=3,"Terça",IF(WEEKDAY(B9,1)=4,"Quarta",IF(WEEKDAY(B9,1)=5,"Quinta",IF(WEEKDAY(B9,1)=6,"Sexta",IF(WEEKDAY(B9,1)=7,"Sábado")))))))) -> Quinta | D9: 520 | E9: 1200 | F9: 1200 | G9: 1657 | I9: =IF(ISERROR(IF(OR($Z9="",$Z9=0),0,(IF(TEXT($Z9,"[hh]:mm:ss")<TEXT($Y9,"[hh]:mm:ss"),(1-$Y9+$Z9),$Z9-$Y9))+IF(OR($AB9="",$AB9=0),0,(IF(TEXT($AB9,"[hh]:mm:ss")<TEXT($AA9,"[hh]:mm:ss"),(1-$AA9+$AB9),$AB9-$AA9))))),0,IF(OR($Z9="",$Z9=0),0,(IF(TEXT($Z9,"[hh]:mm:ss")<TEXT($Y9,"[hh]:mm:ss"),(1-$Y9+$Z9),$Z9-$Y9))+IF(OR($AB9="",$AB9=0),0,(IF(TEXT($AB9,"[hh]:mm:ss")<TEXT($AA9,"[hh]:mm:ss"),(1-$AA9+$AB9),$AB9-$AA9))))) -> 0.48402778 | K9: =IF($A9="",0,IF(OR((VLOOKUP($A9,$T$6:$V$13,3,FALSE)-$I9)<0,$Y9=""),0,(VLOOKUP($A9,$T$6:$V$13,3,FALSE)-$I9))) -> 0 | M9: =IF($A9="",0,IF(($I9-VLOOKUP($A9,$T$6:$V$13,3,FALSE))<0,0,($I9-VLOOKUP($A9,$T$6:$V$13,3,FALSE)))) -> 0.10902778 | Q9: =IF($A9="",0,IF($M9<=VLOOKUP($A9,PREMISSAS!$A$4:$H$11,4,FALSE),$M9,VLOOKUP($A9,PREMISSAS!$A$4:$H$11,4,FALSE))) -> 0.10902778 | S9: =IF($A9="",0,IF($M9>VLOOKUP($A9,PREMISSAS!$A$4:$H$11,4,FALSE),$M9-VLOOKUP($A9,PREMISSAS!$A$4:$H$11,4,FALSE),0)) -> 0 | T9: 5 | U9: QUINTA | V9: 0.375 | W9: 5 | Y9: =IF(OR(D9="",D9=0,D9="FALTA",D9="SUSPENSO",D9="SUSPENSÃO"),"",TEXT(D9,"##"":""##")) -> 5:20 | Z9: =IF(OR(E9="",E9=0,E9="FALTA",E9="SUSPENSO",E9="SUSPENSÃO"),"",TEXT(E9,"##"":""##")) -> 12:00 | AA9: =IF(OR(F9="",F9=0,F9="FALTA",F9="SUSPENSO",F9="SUSPENSÃO"),"",TEXT(F9,"##"":""##")) -> 12:00 | AB9: =IF(OR(G9="",G9=0,G9="FALTA",G9="SUSPENSO",G9="SUSPENSÃO"),"",TEXT(G9,"##"":""##")) -> 16:57
A10: =IF(NOT(ISERROR(VLOOKUP(B10,rngFeriados,1,FALSE))),"F",IF(B10="","",WEEKDAY($B10,1))) -> 6 | B10: =IF(B9="","",IF((B9+1)>CAPA!$E$4,"",B9+1)) -> 42678 | C10: =IF(B10="","",IF(WEEKDAY(B10,1)=1,"Domingo",IF(WEEKDAY(B10,1)=2,"Segunda",IF(WEEKDAY(B10,1)=3,"Terça",IF(WEEKDAY(B10,1)=4,"Quarta",IF(WEEKDAY(B10,1)=5,"Quinta",IF(WEEKDAY(B10,1)=6,"Sexta",IF(WEEKDAY(B10,1)=7,"Sábado")))))))) -> Sexta | D10: 258 | E10: 1200 | F10: 1200 | G10: 1629 | I10: =IF(ISERROR(IF(OR($Z10="",$Z10=0),0,(IF(TEXT($Z10,"[hh]:mm:ss")<TEXT($Y10,"[hh]:mm:ss"),(1-$Y10+$Z10),$Z10-$Y10))+IF(OR($AB10="",$AB10=0),0,(IF(TEXT($AB10,"[hh]:mm:ss")<TEXT($AA10,"[hh]:mm:ss"),(1-$AA10+$AB10),$AB10-$AA10))))),0,IF(OR($Z10="",$Z10=0),0,(IF(TEXT($Z10,"[hh]:mm:ss")<TEXT($Y10,"[hh]:mm:ss"),(1-$Y10+$Z10),$Z10-$Y10))+IF(OR($AB10="",$AB10=0),0,(IF(TEXT($AB10,"[hh]:mm:ss")<TEXT($AA10,"[hh]:mm:ss"),(1-$AA10+$AB10),$AB10-$AA10))))) -> 0.56319444 | K10: =IF($A10="",0,IF(OR((VLOOKUP($A10,$T$6:$V$13,3,FALSE)-$I10)<0,$Y10=""),0,(VLOOKUP($A10,$T$6:$V$13,3,FALSE)-$I10))) -> 0 | M10: =IF($A10="",0,IF(($I10-VLOOKUP($A10,$T$6:$V$13,3,FALSE))<0,0,($I10-VLOOKUP($A10,$T$6:$V$13,3,FALSE)))) -> 0.22986111 | Q10: =IF($A10="",0,IF($M10<=VLOOKUP($A10,PREMISSAS!$A$4:$H$11,4,FALSE),$M10,VLOOKUP($A10,PREMISSAS!$A$4:$H$11,4,FALSE))) -> 0.22986111 | S10: =IF($A10="",0,IF($M10>VLOOKUP($A10,PREMISSAS!$A$4:$H$11,4,FALSE),$M10-VLOOKUP($A10,PREMISSAS!$A$4:$H$11,4,FALSE),0)) -> 0 | T10: 6 | U10: SEXTA | V10: 0.33333333 | W10: 6 | Y10: =IF(OR(D10="",D10=0,D10="FALTA",D10="SUSPENSO",D10="SUSPENSÃO"),"",TEXT(D10,"##"":""##")) -> 2:58 | Z10: =IF(OR(E10="",E10=0,E10="FALTA",E10="SUSPENSO",E10="SUSPENSÃO"),"",TEXT(E10,"##"":""##")) -> 12:00 | AA10: =IF(OR(F10="",F10=0,F10="FALTA",F10="SUSPENSO",F10="SUSPENSÃO"),"",TEXT(F10,"##"":""##")) -> 12:00 | AB10: =IF(OR(G10="",G10=0,G10="FALTA",G10="SUSPENSO",G10="SUSPENSÃO"),"",TEXT(G10,"##"":""##")) -> 16:29
A11: =IF(NOT(ISERROR(VLOOKUP(B11,rngFeriados,1,FALSE))),"F",IF(B11="","",WEEKDAY($B11,1))) -> 7 | B11: =IF(B10="","",IF((B10+1)>CAPA!$E$4,"",B10+1)) -> 42679 | C11: =IF(B11="","",IF(WEEKDAY(B11,1)=1,"Domingo",IF(WEEKDAY(B11,1)=2,"Segunda",IF(WEEKDAY(B11,1)=3,"Terça",IF(WEEKDAY(B11,1)=4,"Quarta",IF(WEEKDAY(B11,1)=5,"Quinta",IF(WEEKDAY(B11,1)=6,"Sexta",IF(WEEKDAY(B11,1)=7,"Sábado")))))))) -> Sábado | I11: =IF(ISERROR(IF(OR($Z11="",$Z11=0),0,(IF(TEXT($Z11,"[hh]:mm:ss")<TEXT($Y11,"[hh]:mm:ss"),(1-$Y11+$Z11),$Z11-$Y11))+IF(OR($AB11="",$AB11=0),0,(IF(TEXT($AB11,"[hh]:mm:ss")<TEXT($AA11,"[hh]:mm:ss"),(1-$AA11+$AB11),$AB11-$AA11))))),0,IF(OR($Z11="",$Z11=0),0,(IF(TEXT($Z11,"[hh]:mm:ss")<TEXT($Y11,"[hh]:mm:ss"),(1-$Y11+$Z11),$Z11-$Y11))+IF(OR($AB11="",$AB11=0),0,(IF(TEXT($AB11,"[hh]:mm:ss")<TEXT($AA11,"[hh]:mm:ss"),(1-$AA11+$AB11),$AB11-$AA11))))) -> 0 | K11: =IF($A11="",0,IF(OR((VLOOKUP($A11,$T$6:$V$13,3,FALSE)-$I11)<0,$Y11=""),0,(VLOOKUP($A11,$T$6:$V$13,3,FALSE)-$I11))) -> 0 | M11: =IF($A11="",0,IF(($I11-VLOOKUP($A11,$T$6:$V$13,3,FALSE))<0,0,($I11-VLOOKUP($A11,$T$6:$V$13,3,FALSE)))) -> 0 | Q11: =IF($A11="",0,IF($M11<=VLOOKUP($A11,PREMISSAS!$A$4:$H$11,4,FALSE),$M11,VLOOKUP($A11,PREMISSAS!$A$4:$H$11,4,FALSE))) -> 0 | S11: =IF($A11="",0,IF($M11>VLOOKUP($A11,PREMISSAS!$A$4:$H$11,4,FALSE),$M11-VLOOKUP($A11,PREMISSAS!$A$4:$H$11,4,FALSE),0)) -> 0 | T11: 7 | U11: SÁBADO | V11: 0 | W11: 7 | Y11: =IF(OR(D11="",D11=0,D11="FALTA",D11="SUSPENSO",D11="SUSPENSÃO"),"",TEXT(D11,"##"":""##")) | Z11: =IF(OR(E11="",E11=0,E11="FALTA",E11="SUSPENSO",E11="SUSPENSÃO"),"",TEXT(E11,"##"":""##")) | AA11: =IF(OR(F11="",F11=0,F11="FALTA",F11="SUSPENSO",F11="SUSPENSÃO"),"",TEXT(F11,"##"":""##")) | AB11: =IF(OR(G11="",G11=0,G11="FALTA",G11="SUSPENSO",G11="SUSPENSÃO"),"",TEXT(G11,"##"":""##"))
A12: =IF(NOT(ISERROR(VLOOKUP(B12,rngFeriados,1,FALSE))),"F",IF(B12="","",WEEKDAY($B12,1))) -> 1 | B12: =IF(B11="","",IF((B11+1)>CAPA!$E$4,"",B11+1)) -> 42680 | C12: =IF(B12="","",IF(WEEKDAY(B12,1)=1,"Domingo",IF(WEEKDAY(B12,1)=2,"Segunda",IF(WEEKDAY(B12,1)=3,"Terça",IF(WEEKDAY(B12,1)=4,"Quarta",IF(WEEKDAY(B12,1)=5,"Quinta",IF(WEEKDAY(B12,1)=6,"Sexta",IF(WEEKDAY(B12,1)=7,"Sábado")))))))) -> Domingo | I12: =IF(ISERROR(IF(OR($Z12="",$Z12=0),0,(IF(TEXT($Z12,"[hh]:mm:ss")<TEXT($Y12,"[hh]:mm:ss"),(1-$Y12+$Z12),$Z12-$Y12))+IF(OR($AB12="",$AB12=0),0,(IF(TEXT($AB12,"[hh]:mm:ss")<TEXT($AA12,"[hh]:mm:ss"),(1-$AA12+$AB12),$AB12-$AA12))))),0,IF(OR($Z12="",$Z12=0),0,(IF(TEXT($Z12,"[hh]:mm:ss")<TEXT($Y12,"[hh]:mm:ss"),(1-$Y12+$Z12),$Z12-$Y12))+IF(OR($AB12="",$AB12=0),0,(IF(TEXT($AB12,"[hh]:mm:ss")<TEXT($AA12,"[hh]:mm:ss"),(1-$AA12+$AB12),$AB12-$AA12))))) -> 0 | K12: =IF($A12="",0,IF(OR((VLOOKUP($A12,$T$6:$V$13,3,FALSE)-$I12)<0,$Y12=""),0,(VLOOKUP($A12,$T$6:$V$13,3,FALSE)-$I12))) -> 0 | M12: =IF($A12="",0,IF(($I12-VLOOKUP($A12,$T$6:$V$13,3,FALSE))<0,0,($I12-VLOOKUP($A12,$T$6:$V$13,3,FALSE)))) -> 0 | Q12: =IF($A12="",0,IF($M12<=VLOOKUP($A12,PREMISSAS!$A$4:$H$11,4,FALSE),$M12,VLOOKUP($A12,PREMISSAS!$A$4:$H$11,4,FALSE))) -> 0 | S12: =IF($A12="",0,IF($M12>VLOOKUP($A12,PREMISSAS!$A$4:$H$11,4,FALSE),$M12-VLOOKUP($A12,PREMISSAS!$A$4:$H$11,4,FALSE),0)) -> 0 | T12: 1 | U12: DOMINGO | V12: 0 | W12: 1 | Y12: =IF(OR(D12="",D12=0,D12="FALTA",D12="SUSPENSO",D12="SUSPENSÃO"),"",TEXT(D12,"##"":""##")) | Z12: =IF(OR(E12="",E12=0,E12="FALTA",E12="SUSPENSO",E12="SUSPENSÃO"),"",TEXT(E12,"##"":""##")) | AA12: =IF(OR(F12="",F12=0,F12="FALTA",F12="SUSPENSO",F12="SUSPENSÃO"),"",TEXT(F12,"##"":""##")) | AB12: =IF(OR(G12="",G12=0,G12="FALTA",G12="SUSPENSO",G12="SUSPENSÃO"),"",TEXT(G12,"##"":""##"))
A13: =IF(NOT(ISERROR(VLOOKUP(B13,rngFeriados,1,FALSE))),"F",IF(B13="","",WEEKDAY($B13,1))) -> 2 | B13: =IF(B12="","",IF((B12+1)>CAPA!$E$4,"",B12+1)) -> 42681 | C13: =IF(B13="","",IF(WEEKDAY(B13,1)=1,"Domingo",IF(WEEKDAY(B13,1)=2,"Segunda",IF(WEEKDAY(B13,1)=3,"Terça",IF(WEEKDAY(B13,1)=4,"Quarta",IF(WEEKDAY(B13,1)=5,"Quinta",IF(WEEKDAY(B13,1)=6,"Sexta",IF(WEEKDAY(B13,1)=7,"Sábado")))))))) -> Segunda | D13: 519 | E13: 1200 | F13: 1200 | G13: 1518 | I13: =IF(ISERROR(IF(OR($Z13="",$Z13=0),0,(IF(TEXT($Z13,"[hh]:mm:ss")<TEXT($Y13,"[hh]:mm:ss"),(1-$Y13+$Z13),$Z13-$Y13))+IF(OR($AB13="",$AB13=0),0,(IF(TEXT($AB13,"[hh]:mm:ss")<TEXT($AA13,"[hh]:mm:ss"),(1-$AA13+$AB13),$AB13-$AA13))))),0,IF(OR($Z13="",$Z13=0),0,(IF(TEXT($Z13,"[hh]:mm:ss")<TEXT($Y13,"[hh]:mm:ss"),(1-$Y13+$Z13),$Z13-$Y13))+IF(OR($AB13="",$AB13=0),0,(IF(TEXT($AB13,"[hh]:mm:ss")<TEXT($AA13,"[hh]:mm:ss"),(1-$AA13+$AB13),$AB13-$AA13))))) -> 0.41597222 | K13: =IF($A13="",0,IF(OR((VLOOKUP($A13,$T$6:$V$13,3,FALSE)-$I13)<0,$Y13=""),0,(VLOOKUP($A13,$T$6:$V$13,3,FALSE)-$I13))) -> 0 | M13: =IF($A13="",0,IF(($I13-VLOOKUP($A13,$T$6:$V$13,3,FALSE))<0,0,($I13-VLOOKUP($A13,$T$6:$V$13,3,FALSE)))) -> 0.040972222 | Q13: =IF($A13="",0,IF($M13<=VLOOKUP($A13,PREMISSAS!$A$4:$H$11,4,FALSE),$M13,VLOOKUP($A13,PREMISSAS!$A$4:$H$11,4,FALSE))) -> 0.040972222 | S13: =IF($A13="",0,IF($M13>VLOOKUP($A13,PREMISSAS!$A$4:$H$11,4,FALSE),$M13-VLOOKUP($A13,PREMISSAS!$A$4:$H$11,4,FALSE),0)) -> 0 | T13: F | U13: FERIADOS | V13: 0 | W13: F | Y13: =IF(OR(D13="",D13=0,D13="FALTA",D13="SUSPENSO",D13="SUSPENSÃO"),"",TEXT(D13,"##"":""##")) -> 5:19 | Z13: =IF(OR(E13="",E13=0,E13="FALTA",E13="SUSPENSO",E13="SUSPENSÃO"),"",TEXT(E13,"##"":""##")) -> 12:00 | AA13: =IF(OR(F13="",F13=0,F13="FALTA",F13="SUSPENSO",F13="SUSPENSÃO"),"",TEXT(F13,"##"":""##")) -> 12:00 | AB13: =IF(OR(G13="",G13=0,G13="FALTA",G13="SUSPENSO",G13="SUSPENSÃO"),"",TEXT(G13,"##"":""##")) -> 15:18
A14: =IF(NOT(ISERROR(VLOOKUP(B14,rngFeriados,1,FALSE))),"F",IF(B14="","",WEEKDAY($B14,1))) -> 3 | B14: =IF(B13="","",IF((B13+1)>CAPA!$E$4,"",B13+1)) -> 42682 | C14: =IF(B14="","",IF(WEEKDAY(B14,1)=1,"Domingo",IF(WEEKDAY(B14,1)=2,"Segunda",IF(WEEKDAY(B14,1)=3,"Terça",IF(WEEKDAY(B14,1)=4,"Quarta",IF(WEEKDAY(B14,1)=5,"Quinta",IF(WEEKDAY(B14,1)=6,"Sexta",IF(WEEKDAY(B14,1)=7,"Sábado")))))))) -> Terça | D14: 534 | E14: 1200 | F14: 1200 | G14: 1510 | I14: =IF(ISERROR(IF(OR($Z14="",$Z14=0),0,(IF(TEXT($Z14,"[hh]:mm:ss")<TEXT($Y14,"[hh]:mm:ss"),(1-$Y14+$Z14),$Z14-$Y14))+IF(OR($AB14="",$AB14=0),0,(IF(TEXT($AB14,"[hh]:mm:ss")<TEXT($AA14,"[hh]:mm:ss"),(1-$AA14+$AB14),$AB14-$AA14))))),0,IF(OR($Z14="",$Z14=0),0,(IF(TEXT($Z14,"[hh]:mm:ss")<TEXT($Y14,"[hh]:mm:ss"),(1-$Y14+$Z14),$Z14-$Y14))+IF(OR($AB14="",$AB14=0),0,(IF(TEXT($AB14,"[hh]:mm:ss")<TEXT($AA14,"[hh]:mm:ss"),(1-$AA14+$AB14),$AB14-$AA14))))) -> 0.4 | K14: =IF($A14="",0,IF(OR((VLOOKUP($A14,$T$6:$V$13,3,FALSE)-$I14)<0,$Y14=""),0,(VLOOKUP($A14,$T$6:$V$13,3,FALSE)-$I14))) -> 0 | M14: =IF($A14="",0,IF(($I14-VLOOKUP($A14,$T$6:$V$13,3,FALSE))<0,0,($I14-VLOOKUP($A14,$T$6:$V$13,3,FALSE)))) -> 0.025 | Q14: =IF($A14="",0,IF($M14<=VLOOKUP($A14,PREMISSAS!$A$4:$H$11,4,FALSE),$M14,VLOOKUP($A14,PREMISSAS!$A$4:$H$11,4,FALSE))) -> 0.025 | S14: =IF($A14="",0,IF($M14>VLOOKUP($A14,PREMISSAS!$A$4:$H$11,4,FALSE),$M14-VLOOKUP($A14,PREMISSAS!$A$4:$H$11,4,FALSE),0)) -> 0 | Y14: =IF(OR(D14="",D14=0,D14="FALTA",D14="SUSPENSO",D14="SUSPENSÃO"),"",TEXT(D14,"##"":""##")) -> 5:34 | Z14: =IF(OR(E14="",E14=0,E14="FALTA",E14="SUSPENSO",E14="SUSPENSÃO"),"",TEXT(E14,"##"":""##")) -> 12:00 | AA14: =IF(OR(F14="",F14=0,F14="FALTA",F14="SUSPENSO",F14="SUSPENSÃO"),"",TEXT(F14,"##"":""##")) -> 12:00 | AB14: =IF(OR(G14="",G14=0,G14="FALTA",G14="SUSPENSO",G14="SUSPENSÃO"),"",TEXT(G14,"##"":""##")) -> 15:10
A15: =IF(NOT(ISERROR(VLOOKUP(B15,rngFeriados,1,FALSE))),"F",IF(B15="","",WEEKDAY($B15,1))) -> 4 | B15: =IF(B14="","",IF((B14+1)>CAPA!$E$4,"",B14+1)) -> 42683 | C15: =IF(B15="","",IF(WEEKDAY(B15,1)=1,"Domingo",IF(WEEKDAY(B15,1)=2,"Segunda",IF(WEEKDAY(B15,1)=3,"Terça",IF(WEEKDAY(B15,1)=4,"Quarta",IF(WEEKDAY(B15,1)=5,"Quinta",IF(WEEKDAY(B15,1)=6,"Sexta",IF(WEEKDAY(B15,1)=7,"Sábado")))))))) -> Quarta | D15: 426 | E15: 1200 | F15: 1200 | G15: 1650 | I15: =IF(ISERROR(IF(OR($Z15="",$Z15=0),0,(IF(TEXT($Z15,"[hh]:mm:ss")<TEXT($Y15,"[hh]:mm:ss"),(1-$Y15+$Z15),$Z15-$Y15))+IF(OR($AB15="",$AB15=0),0,(IF(TEXT($AB15,"[hh]:mm:ss")<TEXT($AA15,"[hh]:mm:ss"),(1-$AA15+$AB15),$AB15-$AA15))))),0,IF(OR($Z15="",$Z15=0),0,(IF(TEXT($Z15,"[hh]:mm:ss")<TEXT($Y15,"[hh]:mm:ss"),(1-$Y15+$Z15),$Z15-$Y15))+IF(OR($AB15="",$AB15=0),0,(IF(TEXT($AB15,"[hh]:mm:ss")<TEXT($AA15,"[hh]:mm:ss"),(1-$AA15+$AB15),$AB15-$AA15))))) -> 0.51666667 | K15: =IF($A15="",0,IF(OR((VLOOKUP($A15,$T$6:$V$13,3,FALSE)-$I15)<0,$Y15=""),0,(VLOOKUP($A15,$T$6:$V$13,3,FALSE)-$I15))) -> 0 | M15: =IF($A15="",0,IF(($I15-VLOOKUP($A15,$T$6:$V$13,3,FALSE))<0,0,($I15-VLOOKUP($A15,$T$6:$V$13,3,FALSE)))) -> 0.14166667 | Q15: =IF($A15="",0,IF($M15<=VLOOKUP($A15,PREMISSAS!$A$4:$H$11,4,FALSE),$M15,VLOOKUP($A15,PREMISSAS!$A$4:$H$11,4,FALSE))) -> 0.14166667 | S15: =IF($A15="",0,IF($M15>VLOOKUP($A15,PREMISSAS!$A$4:$H$11,4,FALSE),$M15-VLOOKUP($A15,PREMISSAS!$A$4:$H$11,4,FALSE),0)) -> 0 | Y15: =IF(OR(D15="",D15=0,D15="FALTA",D15="SUSPENSO",D15="SUSPENSÃO"),"",TEXT(D15,"##"":""##")) -> 4:26 | Z15: =IF(OR(E15="",E15=0,E15="FALTA",E15="SUSPENSO",E15="SUSPENSÃO"),"",TEXT(E15,"##"":""##")) -> 12:00 | AA15: =IF(OR(F15="",F15=0,F15="FALTA",F15="SUSPENSO",F15="SUSPENSÃO"),"",TEXT(F15,"##"":""##")) -> 12:00 | AB15: =IF(OR(G15="",G15=0,G15="FALTA",G15="SUSPENSO",G15="SUSPENSÃO"),"",TEXT(G15,"##"":""##")) -> 16:50
A16: =IF(NOT(ISERROR(VLOOKUP(B16,rngFeriados,1,FALSE))),"F",IF(B16="","",WEEKDAY($B16,1))) -> 5 | B16: =IF(B15="","",IF((B15+1)>CAPA!$E$4,"",B15+1)) -> 42684 | C16: =IF(B16="","",IF(WEEKDAY(B16,1)=1,"Domingo",IF(WEEKDAY(B16,1)=2,"Segunda",IF(WEEKDAY(B16,1)=3,"Terça",IF(WEEKDAY(B16,1)=4,"Quarta",IF(WEEKDAY(B16,1)=5,"Quinta",IF(WEEKDAY(B16,1)=6,"Sexta",IF(WEEKDAY(B16,1)=7,"Sábado")))))))) -> Quinta | D16: 526 | E16: 1200 | F16: 1200 | G16: 1736 | I16: =IF(ISERROR(IF(OR($Z16="",$Z16=0),0,(IF(TEXT($Z16,"[hh]:mm:ss")<TEXT($Y16,"[hh]:mm:ss"),(1-$Y16+$Z16),$Z16-$Y16))+IF(OR($AB16="",$AB16=0),0,(IF(TEXT($AB16,"[hh]:mm:ss")<TEXT($AA16,"[hh]:mm:ss"),(1-$AA16+$AB16),$AB16-$AA16))))),0,IF(OR($Z16="",$Z16=0),0,(IF(TEXT($Z16,"[hh]:mm:ss")<TEXT($Y16,"[hh]:mm:ss"),(1-$Y16+$Z16),$Z16-$Y16))+IF(OR($AB16="",$AB16=0),0,(IF(TEXT($AB16,"[hh]:mm:ss")<TEXT($AA16,"[hh]:mm:ss"),(1-$AA16+$AB16),$AB16-$AA16))))) -> 0.50694444 | K16: =IF($A16="",0,IF(OR((VLOOKUP($A16,$T$6:$V$13,3,FALSE)-$I16)<0,$Y16=""),0,(VLOOKUP($A16,$T$6:$V$13,3,FALSE)-$I16))) -> 0 | M16: =IF($A16="",0,IF(($I16-VLOOKUP($A16,$T$6:$V$13,3,FALSE))<0,0,($I16-VLOOKUP($A16,$T$6:$V$13,3,FALSE)))) -> 0.13194444 | Q16: =IF($A16="",0,IF($M16<=VLOOKUP($A16,PREMISSAS!$A$4:$H$11,4,FALSE),$M16,VLOOKUP($A16,PREMISSAS!$A$4:$H$11,4,FALSE))) -> 0.13194444 | S16: =IF($A16="",0,IF($M16>VLOOKUP($A16,PREMISSAS!$A$4:$H$11,4,FALSE),$M16-VLOOKUP($A16,PREMISSAS!$A$4:$H$11,4,FALSE),0)) -> 0 | Y16: =IF(OR(D16="",D16=0,D16="FALTA",D16="SUSPENSO",D16="SUSPENSÃO"),"",TEXT(D16,"##"":""##")) -> 5:26 | Z16: =IF(OR(E16="",E16=0,E16="FALTA",E16="SUSPENSO",E16="SUSPENSÃO"),"",TEXT(E16,"##"":""##")) -> 12:00 | AA16: =IF(OR(F16="",F16=0,F16="FALTA",F16="SUSPENSO",F16="SUSPENSÃO"),"",TEXT(F16,"##"":""##")) -> 12:00 | AB16: =IF(OR(G16="",G16=0,G16="FALTA",G16="SUSPENSO",G16="SUSPENSÃO"),"",TEXT(G16,"##"":""##")) -> 17:36
A17: =IF(NOT(ISERROR(VLOOKUP(B17,rngFeriados,1,FALSE))),"F",IF(B17="","",WEEKDAY($B17,1))) -> 6 | B17: =IF(B16="","",IF((B16+1)>CAPA!$E$4,"",B16+1)) -> 42685 | C17: =IF(B17="","",IF(WEEKDAY(B17,1)=1,"Domingo",IF(WEEKDAY(B17,1)=2,"Segunda",IF(WEEKDAY(B17,1)=3,"Terça",IF(WEEKDAY(B17,1)=4,"Quarta",IF(WEEKDAY(B17,1)=5,"Quinta",IF(WEEKDAY(B17,1)=6,"Sexta",IF(WEEKDAY(B17,1)=7,"Sábado")))))))) -> Sexta | D17: 520 | E17: 1200 | F17: 1200 | G17: 1817 | I17: =IF(ISERROR(IF(OR($Z17="",$Z17=0),0,(IF(TEXT($Z17,"[hh]:mm:ss")<TEXT($Y17,"[hh]:mm:ss"),(1-$Y17+$Z17),$Z17-$Y17))+IF(OR($AB17="",$AB17=0),0,(IF(TEXT($AB17,"[hh]:mm:ss")<TEXT($AA17,"[hh]:mm:ss"),(1-$AA17+$AB17),$AB17-$AA17))))),0,IF(OR($Z17="",$Z17=0),0,(IF(TEXT($Z17,"[hh]:mm:ss")<TEXT($Y17,"[hh]:mm:ss"),(1-$Y17+$Z17),$Z17-$Y17))+IF(OR($AB17="",$AB17=0),0,(IF(TEXT($AB17,"[hh]:mm:ss")<TEXT($AA17,"[hh]:mm:ss"),(1-$AA17+$AB17),$AB17-$AA17))))) -> 0.53958333 | K17: =IF($A17="",0,IF(OR((VLOOKUP($A17,$T$6:$V$13,3,FALSE)-$I17)<0,$Y17=""),0,(VLOOKUP($A17,$T$6:$V$13,3,FALSE)-$I17))) -> 0 | M17: =IF($A17="",0,IF(($I17-VLOOKUP($A17,$T$6:$V$13,3,FALSE))<0,0,($I17-VLOOKUP($A17,$T$6:$V$13,3,FALSE)))) -> 0.20625 | Q17: =IF($A17="",0,IF($M17<=VLOOKUP($A17,PREMISSAS!$A$4:$H$11,4,FALSE),$M17,VLOOKUP($A17,PREMISSAS!$A$4:$H$11,4,FALSE))) -> 0.20625 | S17: =IF($A17="",0,IF($M17>VLOOKUP($A17,PREMISSAS!$A$4:$H$11,4,FALSE),$M17-VLOOKUP($A17,PREMISSAS!$A$4:$H$11,4,FALSE),0)) -> 0 | Y17: =IF(OR(D17="",D17=0,D17="FALTA",D17="SUSPENSO",D17="SUSPENSÃO"),"",TEXT(D17,"##"":""##")) -> 5:20 | Z17: =IF(OR(E17="",E17=0,E17="FALTA",E17="SUSPENSO",E17="SUSPENSÃO"),"",TEXT(E17,"##"":""##")) -> 12:00 | AA17: =IF(OR(F17="",F17=0,F17="FALTA",F17="SUSPENSO",F17="SUSPENSÃO"),"",TEXT(F17,"##"":""##")) -> 12:00 | AB17: =IF(OR(G17="",G17=0,G17="FALTA",G17="SUSPENSO",G17="SUSPENSÃO"),"",TEXT(G17,"##"":""##")) -> 18:17
A18: =IF(NOT(ISERROR(VLOOKUP(B18,rngFeriados,1,FALSE))),"F",IF(B18="","",WEEKDAY($B18,1))) -> 7 | B18: =IF(B17="","",IF((B17+1)>CAPA!$E$4,"",B17+1)) -> 42686 | C18: =IF(B18="","",IF(WEEKDAY(B18,1)=1,"Domingo",IF(WEEKDAY(B18,1)=2,"Segunda",IF(WEEKDAY(B18,1)=3,"Terça",IF(WEEKDAY(B18,1)=4,"Quarta",IF(WEEKDAY(B18,1)=5,"Quinta",IF(WEEKDAY(B18,1)=6,"Sexta",IF(WEEKDAY(B18,1)=7,"Sábado")))))))) -> Sábado | I18: =IF(ISERROR(IF(OR($Z18="",$Z18=0),0,(IF(TEXT($Z18,"[hh]:mm:ss")<TEXT($Y18,"[hh]:mm:ss"),(1-$Y18+$Z18),$Z18-$Y18))+IF(OR($AB18="",$AB18=0),0,(IF(TEXT($AB18,"[hh]:mm:ss")<TEXT($AA18,"[hh]:mm:ss"),(1-$AA18+$AB18),$AB18-$AA18))))),0,IF(OR($Z18="",$Z18=0),0,(IF(TEXT($Z18,"[hh]:mm:ss")<TEXT($Y18,"[hh]:mm:ss"),(1-$Y18+$Z18),$Z18-$Y18))+IF(OR($AB18="",$AB18=0),0,(IF(TEXT($AB18,"[hh]:mm:ss")<TEXT($AA18,"[hh]:mm:ss"),(1-$AA18+$AB18),$AB18-$AA18))))) -> 0 | K18: =IF($A18="",0,IF(OR((VLOOKUP($A18,$T$6:$V$13,3,FALSE)-$I18)<0,$Y18=""),0,(VLOOKUP($A18,$T$6:$V$13,3,FALSE)-$I18))) -> 0 | M18: =IF($A18="",0,IF(($I18-VLOOKUP($A18,$T$6:$V$13,3,FALSE))<0,0,($I18-VLOOKUP($A18,$T$6:$V$13,3,FALSE)))) -> 0 | Q18: =IF($A18="",0,IF($M18<=VLOOKUP($A18,PREMISSAS!$A$4:$H$11,4,FALSE),$M18,VLOOKUP($A18,PREMISSAS!$A$4:$H$11,4,FALSE))) -> 0 | S18: =IF($A18="",0,IF($M18>VLOOKUP($A18,PREMISSAS!$A$4:$H$11,4,FALSE),$M18-VLOOKUP($A18,PREMISSAS!$A$4:$H$11,4,FALSE),0)) -> 0 | Y18: =IF(OR(D18="",D18=0,D18="FALTA",D18="SUSPENSO",D18="SUSPENSÃO"),"",TEXT(D18,"##"":""##")) | Z18: =IF(OR(E18="",E18=0,E18="FALTA",E18="SUSPENSO",E18="SUSPENSÃO"),"",TEXT(E18,"##"":""##")) | AA18: =IF(OR(F18="",F18=0,F18="FALTA",F18="SUSPENSO",F18="SUSPENSÃO"),"",TEXT(F18,"##"":""##")) | AB18: =IF(OR(G18="",G18=0,G18="FALTA",G18="SUSPENSO",G18="SUSPENSÃO"),"",TEXT(G18,"##"":""##"))
A19: =IF(NOT(ISERROR(VLOOKUP(B19,rngFeriados,1,FALSE))),"F",IF(B19="","",WEEKDAY($B19,1))) -> 1 | B19: =IF(B18="","",IF((B18+1)>CAPA!$E$4,"",B18+1)) -> 42687 | C19: =IF(B19="","",IF(WEEKDAY(B19,1)=1,"Domingo",IF(WEEKDAY(B19,1)=2,"Segunda",IF(WEEKDAY(B19,1)=3,"Terça",IF(WEEKDAY(B19,1)=4,"Quarta",IF(WEEKDAY(B19,1)=5,"Quinta",IF(WEEKDAY(B19,1)=6,"Sexta",IF(WEEKDAY(B19,1)=7,"Sábado")))))))) -> Domingo | I19: =IF(ISERROR(IF(OR($Z19="",$Z19=0),0,(IF(TEXT($Z19,"[hh]:mm:ss")<TEXT($Y19,"[hh]:mm:ss"),(1-$Y19+$Z19),$Z19-$Y19))+IF(OR($AB19="",$AB19=0),0,(IF(TEXT($AB19,"[hh]:mm:ss")<TEXT($AA19,"[hh]:mm:ss"),(1-$AA19+$AB19),$AB19-$AA19))))),0,IF(OR($Z19="",$Z19=0),0,(IF(TEXT($Z19,"[hh]:mm:ss")<TEXT($Y19,"[hh]:mm:ss"),(1-$Y19+$Z19),$Z19-$Y19))+IF(OR($AB19="",$AB19=0),0,(IF(TEXT($AB19,"[hh]:mm:ss")<TEXT($AA19,"[hh]:mm:ss"),(1-$AA19+$AB19),$AB19-$AA19))))) -> 0 | K19: =IF($A19="",0,IF(OR((VLOOKUP($A19,$T$6:$V$13,3,FALSE)-$I19)<0,$Y19=""),0,(VLOOKUP($A19,$T$6:$V$13,3,FALSE)-$I19))) -> 0 | M19: =IF($A19="",0,IF(($I19-VLOOKUP($A19,$T$6:$V$13,3,FALSE))<0,0,($I19-VLOOKUP($A19,$T$6:$V$13,3,FALSE)))) -> 0 | Q19: =IF($A19="",0,IF($M19<=VLOOKUP($A19,PREMISSAS!$A$4:$H$11,4,FALSE),$M19,VLOOKUP($A19,PREMISSAS!$A$4:$H$11,4,FALSE))) -> 0 | S19: =IF($A19="",0,IF($M19>VLOOKUP($A19,PREMISSAS!$A$4:$H$11,4,FALSE),$M19-VLOOKUP($A19,PREMISSAS!$A$4:$H$11,4,FALSE),0)) -> 0 | Y19: =IF(OR(D19="",D19=0,D19="FALTA",D19="SUSPENSO",D19="SUSPENSÃO"),"",TEXT(D19,"##"":""##")) | Z19: =IF(OR(E19="",E19=0,E19="FALTA",E19="SUSPENSO",E19="SUSPENSÃO"),"",TEXT(E19,"##"":""##")) | AA19: =IF(OR(F19="",F19=0,F19="FALTA",F19="SUSPENSO",F19="SUSPENSÃO"),"",TEXT(F19,"##"":""##")) | AB19: =IF(OR(G19="",G19=0,G19="FALTA",G19="SUSPENSO",G19="SUSPENSÃO"),"",TEXT(G19,"##"":""##"))
A20: =IF(NOT(ISERROR(VLOOKUP(B20,rngFeriados,1,FALSE))),"F",IF(B20="","",WEEKDAY($B20,1))) -> 2 | B20: =IF(B19="","",IF((B19+1)>CAPA!$E$4,"",B19+1)) -> 42688 | C20: =IF(B20="","",IF(WEEKDAY(B20,1)=1,"Domingo",IF(WEEKDAY(B20,1)=2,"Segunda",IF(WEEKDAY(B20,1)=3,"Terça",IF(WEEKDAY(B20,1)=4,"Quarta",IF(WEEKDAY(B20,1)=5,"Quinta",IF(WEEKDAY(B20,1)=6,"Sexta",IF(WEEKDAY(B20,1)=7,"Sábado")))))))) -> Segunda | D20: 522 | E20: 1200 | F20: 1200 | G20: 1253 | I20: =IF(ISERROR(IF(OR($Z20="",$Z20=0),0,(IF(TEXT($Z20,"[hh]:mm:ss")<TEXT($Y20,"[hh]:mm:ss"),(1-$Y20+$Z20),$Z20-$Y20))+IF(OR($AB20="",$AB20=0),0,(IF(TEXT($AB20,"[hh]:mm:ss")<TEXT($AA20,"[hh]:mm:ss"),(1-$AA20+$AB20),$AB20-$AA20))))),0,IF(OR($Z20="",$Z20=0),0,(IF(TEXT($Z20,"[hh]:mm:ss")<TEXT($Y20,"[hh]:mm:ss"),(1-$Y20+$Z20),$Z20-$Y20))+IF(OR($AB20="",$AB20=0),0,(IF(TEXT($AB20,"[hh]:mm:ss")<TEXT($AA20,"[hh]:mm:ss"),(1-$AA20+$AB20),$AB20-$AA20))))) -> 0.31319444 | K20: =IF($A20="",0,IF(OR((VLOOKUP($A20,$T$6:$V$13,3,FALSE)-$I20)<0,$Y20=""),0,(VLOOKUP($A20,$T$6:$V$13,3,FALSE)-$I20))) -> 0.061805556 | M20: =IF($A20="",0,IF(($I20-VLOOKUP($A20,$T$6:$V$13,3,FALSE))<0,0,($I20-VLOOKUP($A20,$T$6:$V$13,3,FALSE)))) -> 0 | Q20: =IF($A20="",0,IF($M20<=VLOOKUP($A20,PREMISSAS!$A$4:$H$11,4,FALSE),$M20,VLOOKUP($A20,PREMISSAS!$A$4:$H$11,4,FALSE))) -> 0 | S20: =IF($A20="",0,IF($M20>VLOOKUP($A20,PREMISSAS!$A$4:$H$11,4,FALSE),$M20-VLOOKUP($A20,PREMISSAS!$A$4:$H$11,4,FALSE),0)) -> 0 | Y20: =IF(OR(D20="",D20=0,D20="FALTA",D20="SUSPENSO",D20="SUSPENSÃO"),"",TEXT(D20,"##"":""##")) -> 5:22 | Z20: =IF(OR(E20="",E20=0,E20="FALTA",E20="SUSPENSO",E20="SUSPENSÃO"),"",TEXT(E20,"##"":""##")) -> 12:00 | AA20: =IF(OR(F20="",F20=0,F20="FALTA",F20="SUSPENSO",F20="SUSPENSÃO"),"",TEXT(F20,"##"":""##")) -> 12:00 | AB20: =IF(OR(G20="",G20=0,G20="FALTA",G20="SUSPENSO",G20="SUSPENSÃO"),"",TEXT(G20,"##"":""##")) -> 12:53
A21: =IF(NOT(ISERROR(VLOOKUP(B21,rngFeriados,1,FALSE))),"F",IF(B21="","",WEEKDAY($B21,1))) -> F | B21: =IF(B20="","",IF((B20+1)>CAPA!$E$4,"",B20+1)) -> 42689 | C21: =IF(B21="","",IF(WEEKDAY(B21,1)=1,"Domingo",IF(WEEKDAY(B21,1)=2,"Segunda",IF(WEEKDAY(B21,1)=3,"Terça",IF(WEEKDAY(B21,1)=4,"Quarta",IF(WEEKDAY(B21,1)=5,"Quinta",IF(WEEKDAY(B21,1)=6,"Sexta",IF(WEEKDAY(B21,1)=7,"Sábado")))))))) -> Terça | I21: =IF(ISERROR(IF(OR($Z21="",$Z21=0),0,(IF(TEXT($Z21,"[hh]:mm:ss")<TEXT($Y21,"[hh]:mm:ss"),(1-$Y21+$Z21),$Z21-$Y21))+IF(OR($AB21="",$AB21=0),0,(IF(TEXT($AB21,"[hh]:mm:ss")<TEXT($AA21,"[hh]:mm:ss"),(1-$AA21+$AB21),$AB21-$AA21))))),0,IF(OR($Z21="",$Z21=0),0,(IF(TEXT($Z21,"[hh]:mm:ss")<TEXT($Y21,"[hh]:mm:ss"),(1-$Y21+$Z21),$Z21-$Y21))+IF(OR($AB21="",$AB21=0),0,(IF(TEXT($AB21,"[hh]:mm:ss")<TEXT($AA21,"[hh]:mm:ss"),(1-$AA21+$AB21),$AB21-$AA21))))) -> 0 | K21: =IF($A21="",0,IF(OR((VLOOKUP($A21,$T$6:$V$13,3,FALSE)-$I21)<0,$Y21=""),0,(VLOOKUP($A21,$T$6:$V$13,3,FALSE)-$I21))) -> 0 | M21: =IF($A21="",0,IF(($I21-VLOOKUP($A21,$T$6:$V$13,3,FALSE))<0,0,($I21-VLOOKUP($A21,$T$6:$V$13,3,FALSE)))) -> 0 | Q21: =IF($A21="",0,IF($M21<=VLOOKUP($A21,PREMISSAS!$A$4:$H$11,4,FALSE),$M21,VLOOKUP($A21,PREMISSAS!$A$4:$H$11,4,FALSE))) -> 0 | S21: =IF($A21="",0,IF($M21>VLOOKUP($A21,PREMISSAS!$A$4:$H$11,4,FALSE),$M21-VLOOKUP($A21,PREMISSAS!$A$4:$H$11,4,FALSE),0)) -> 0 | Y21: =IF(OR(D21="",D21=0,D21="FALTA",D21="SUSPENSO",D21="SUSPENSÃO"),"",TEXT(D21,"##"":""##")) | Z21: =IF(OR(E21="",E21=0,E21="FALTA",E21="SUSPENSO",E21="SUSPENSÃO"),"",TEXT(E21,"##"":""##")) | AA21: =IF(OR(F21="",F21=0,F21="FALTA",F21="SUSPENSO",F21="SUSPENSÃO"),"",TEXT(F21,"##"":""##")) | AB21: =IF(OR(G21="",G21=0,G21="FALTA",G21="SUSPENSO",G21="SUSPENSÃO"),"",TEXT(G21,"##"":""##"))
A22: =IF(NOT(ISERROR(VLOOKUP(B22,rngFeriados,1,FALSE))),"F",IF(B22="","",WEEKDAY($B22,1))) -> 4 | B22: =IF(B21="","",IF((B21+1)>CAPA!$E$4,"",B21+1)) -> 42690 | C22: =IF(B22="","",IF(WEEKDAY(B22,1)=1,"Domingo",IF(WEEKDAY(B22,1)=2,"Segunda",IF(WEEKDAY(B22,1)=3,"Terça",IF(WEEKDAY(B22,1)=4,"Quarta",IF(WEEKDAY(B22,1)=5,"Quinta",IF(WEEKDAY(B22,1)=6,"Sexta",IF(WEEKDAY(B22,1)=7,"Sábado")))))))) -> Quarta | D22: 502 | E22: 1200 | F22: 1200 | G22: 1613 | I22: =IF(ISERROR(IF(OR($Z22="",$Z22=0),0,(IF(TEXT($Z22,"[hh]:mm:ss")<TEXT($Y22,"[hh]:mm:ss"),(1-$Y22+$Z22),$Z22-$Y22))+IF(OR($AB22="",$AB22=0),0,(IF(TEXT($AB22,"[hh]:mm:ss")<TEXT($AA22,"[hh]:mm:ss"),(1-$AA22+$AB22),$AB22-$AA22))))),0,IF(OR($Z22="",$Z22=0),0,(IF(TEXT($Z22,"[hh]:mm:ss")<TEXT($Y22,"[hh]:mm:ss"),(1-$Y22+$Z22),$Z22-$Y22))+IF(OR($AB22="",$AB22=0),0,(IF(TEXT($AB22,"[hh]:mm:ss")<TEXT($AA22,"[hh]:mm:ss"),(1-$AA22+$AB22),$AB22-$AA22))))) -> 0.46597222 | K22: =IF($A22="",0,IF(OR((VLOOKUP($A22,$T$6:$V$13,3,FALSE)-$I22)<0,$Y22=""),0,(VLOOKUP($A22,$T$6:$V$13,3,FALSE)-$I22))) -> 0 | M22: =IF($A22="",0,IF(($I22-VLOOKUP($A22,$T$6:$V$13,3,FALSE))<0,0,($I22-VLOOKUP($A22,$T$6:$V$13,3,FALSE)))) -> 0.090972222 | Q22: =IF($A22="",0,IF($M22<=VLOOKUP($A22,PREMISSAS!$A$4:$H$11,4,FALSE),$M22,VLOOKUP($A22,PREMISSAS!$A$4:$H$11,4,FALSE))) -> 0.090972222 | S22: =IF($A22="",0,IF($M22>VLOOKUP($A22,PREMISSAS!$A$4:$H$11,4,FALSE),$M22-VLOOKUP($A22,PREMISSAS!$A$4:$H$11,4,FALSE),0)) -> 0 | Y22: =IF(OR(D22="",D22=0,D22="FALTA",D22="SUSPENSO",D22="SUSPENSÃO"),"",TEXT(D22,"##"":""##")) -> 5:02 | Z22: =IF(OR(E22="",E22=0,E22="FALTA",E22="SUSPENSO",E22="SUSPENSÃO"),"",TEXT(E22,"##"":""##")) -> 12:00 | AA22: =IF(OR(F22="",F22=0,F22="FALTA",F22="SUSPENSO",F22="SUSPENSÃO"),"",TEXT(F22,"##"":""##")) -> 12:00 | AB22: =IF(OR(G22="",G22=0,G22="FALTA",G22="SUSPENSO",G22="SUSPENSÃO"),"",TEXT(G22,"##"":""##")) -> 16:13
A23: =IF(NOT(ISERROR(VLOOKUP(B23,rngFeriados,1,FALSE))),"F",IF(B23="","",WEEKDAY($B23,1))) -> 5 | B23: =IF(B22="","",IF((B22+1)>CAPA!$E$4,"",B22+1)) -> 42691 | C23: =IF(B23="","",IF(WEEKDAY(B23,1)=1,"Domingo",IF(WEEKDAY(B23,1)=2,"Segunda",IF(WEEKDAY(B23,1)=3,"Terça",IF(WEEKDAY(B23,1)=4,"Quarta",IF(WEEKDAY(B23,1)=5,"Quinta",IF(WEEKDAY(B23,1)=6,"Sexta",IF(WEEKDAY(B23,1)=7,"Sábado")))))))) -> Quinta | D23: 510 | E23: 1200 | F23: 1200 | G23: 1717 | I23: =IF(ISERROR(IF(OR($Z23="",$Z23=0),0,(IF(TEXT($Z23,"[hh]:mm:ss")<TEXT($Y23,"[hh]:mm:ss"),(1-$Y23+$Z23),$Z23-$Y23))+IF(OR($AB23="",$AB23=0),0,(IF(TEXT($AB23,"[hh]:mm:ss")<TEXT($AA23,"[hh]:mm:ss"),(1-$AA23+$AB23),$AB23-$AA23))))),0,IF(OR($Z23="",$Z23=0),0,(IF(TEXT($Z23,"[hh]:mm:ss")<TEXT($Y23,"[hh]:mm:ss"),(1-$Y23+$Z23),$Z23-$Y23))+IF(OR($AB23="",$AB23=0),0,(IF(TEXT($AB23,"[hh]:mm:ss")<TEXT($AA23,"[hh]:mm:ss"),(1-$AA23+$AB23),$AB23-$AA23))))) -> 0.50486111 | K23: =IF($A23="",0,IF(OR((VLOOKUP($A23,$T$6:$V$13,3,FALSE)-$I23)<0,$Y23=""),0,(VLOOKUP($A23,$T$6:$V$13,3,FALSE)-$I23))) -> 0 | M23: =IF($A23="",0,IF(($I23-VLOOKUP($A23,$T$6:$V$13,3,FALSE))<0,0,($I23-VLOOKUP($A23,$T$6:$V$13,3,FALSE)))) -> 0.12986111 | Q23: =IF($A23="",0,IF($M23<=VLOOKUP($A23,PREMISSAS!$A$4:$H$11,4,FALSE),$M23,VLOOKUP($A23,PREMISSAS!$A$4:$H$11,4,FALSE))) -> 0.12986111 | S23: =IF($A23="",0,IF($M23>VLOOKUP($A23,PREMISSAS!$A$4:$H$11,4,FALSE),$M23-VLOOKUP($A23,PREMISSAS!$A$4:$H$11,4,FALSE),0)) -> 0 | Y23: =IF(OR(D23="",D23=0,D23="FALTA",D23="SUSPENSO",D23="SUSPENSÃO"),"",TEXT(D23,"##"":""##")) -> 5:10 | Z23: =IF(OR(E23="",E23=0,E23="FALTA",E23="SUSPENSO",E23="SUSPENSÃO"),"",TEXT(E23,"##"":""##")) -> 12:00 | AA23: =IF(OR(F23="",F23=0,F23="FALTA",F23="SUSPENSO",F23="SUSPENSÃO"),"",TEXT(F23,"##"":""##")) -> 12:00 | AB23: =IF(OR(G23="",G23=0,G23="FALTA",G23="SUSPENSO",G23="SUSPENSÃO"),"",TEXT(G23,"##"":""##")) -> 17:17
A24: =IF(NOT(ISERROR(VLOOKUP(B24,rngFeriados,1,FALSE))),"F",IF(B24="","",WEEKDAY($B24,1))) -> 6 | B24: =IF(B23="","",IF((B23+1)>CAPA!$E$4,"",B23+1)) -> 42692 | C24: =IF(B24="","",IF(WEEKDAY(B24,1)=1,"Domingo",IF(WEEKDAY(B24,1)=2,"Segunda",IF(WEEKDAY(B24,1)=3,"Terça",IF(WEEKDAY(B24,1)=4,"Quarta",IF(WEEKDAY(B24,1)=5,"Quinta",IF(WEEKDAY(B24,1)=6,"Sexta",IF(WEEKDAY(B24,1)=7,"Sábado")))))))) -> Sexta | D24: 514 | E24: 1200 | F24: 1200 | G24: 2210 | I24: =IF(ISERROR(IF(OR($Z24="",$Z24=0),0,(IF(TEXT($Z24,"[hh]:mm:ss")<TEXT($Y24,"[hh]:mm:ss"),(1-$Y24+$Z24),$Z24-$Y24))+IF(OR($AB24="",$AB24=0),0,(IF(TEXT($AB24,"[hh]:mm:ss")<TEXT($AA24,"[hh]:mm:ss"),(1-$AA24+$AB24),$AB24-$AA24))))),0,IF(OR($Z24="",$Z24=0),0,(IF(TEXT($Z24,"[hh]:mm:ss")<TEXT($Y24,"[hh]:mm:ss"),(1-$Y24+$Z24),$Z24-$Y24))+IF(OR($AB24="",$AB24=0),0,(IF(TEXT($AB24,"[hh]:mm:ss")<TEXT($AA24,"[hh]:mm:ss"),(1-$AA24+$AB24),$AB24-$AA24))))) -> 0.70555556 | K24: =IF($A24="",0,IF(OR((VLOOKUP($A24,$T$6:$V$13,3,FALSE)-$I24)<0,$Y24=""),0,(VLOOKUP($A24,$T$6:$V$13,3,FALSE)-$I24))) -> 0 | M24: =IF($A24="",0,IF(($I24-VLOOKUP($A24,$T$6:$V$13,3,FALSE))<0,0,($I24-VLOOKUP($A24,$T$6:$V$13,3,FALSE)))) -> 0.37222222 | Q24: =IF($A24="",0,IF($M24<=VLOOKUP($A24,PREMISSAS!$A$4:$H$11,4,FALSE),$M24,VLOOKUP($A24,PREMISSAS!$A$4:$H$11,4,FALSE))) -> 0.33333333 | S24: =IF($A24="",0,IF($M24>VLOOKUP($A24,PREMISSAS!$A$4:$H$11,4,FALSE),$M24-VLOOKUP($A24,PREMISSAS!$A$4:$H$11,4,FALSE),0)) -> 0.038888889 | Y24: =IF(OR(D24="",D24=0,D24="FALTA",D24="SUSPENSO",D24="SUSPENSÃO"),"",TEXT(D24,"##"":""##")) -> 5:14 | Z24: =IF(OR(E24="",E24=0,E24="FALTA",E24="SUSPENSO",E24="SUSPENSÃO"),"",TEXT(E24,"##"":""##")) -> 12:00 | AA24: =IF(OR(F24="",F24=0,F24="FALTA",F24="SUSPENSO",F24="SUSPENSÃO"),"",TEXT(F24,"##"":""##")) -> 12:00 | AB24: =IF(OR(G24="",G24=0,G24="FALTA",G24="SUSPENSO",G24="SUSPENSÃO"),"",TEXT(G24,"##"":""##")) -> 22:10
A25: =IF(NOT(ISERROR(VLOOKUP(B25,rngFeriados,1,FALSE))),"F",IF(B25="","",WEEKDAY($B25,1))) -> 7 | B25: =IF(B24="","",IF((B24+1)>CAPA!$E$4,"",B24+1)) -> 42693 | C25: =IF(B25="","",IF(WEEKDAY(B25,1)=1,"Domingo",IF(WEEKDAY(B25,1)=2,"Segunda",IF(WEEKDAY(B25,1)=3,"Terça",IF(WEEKDAY(B25,1)=4,"Quarta",IF(WEEKDAY(B25,1)=5,"Quinta",IF(WEEKDAY(B25,1)=6,"Sexta",IF(WEEKDAY(B25,1)=7,"Sábado")))))))) -> Sábado | I25: =IF(ISERROR(IF(OR($Z25="",$Z25=0),0,(IF(TEXT($Z25,"[hh]:mm:ss")<TEXT($Y25,"[hh]:mm:ss"),(1-$Y25+$Z25),$Z25-$Y25))+IF(OR($AB25="",$AB25=0),0,(IF(TEXT($AB25,"[hh]:mm:ss")<TEXT($AA25,"[hh]:mm:ss"),(1-$AA25+$AB25),$AB25-$AA25))))),0,IF(OR($Z25="",$Z25=0),0,(IF(TEXT($Z25,"[hh]:mm:ss")<TEXT($Y25,"[hh]:mm:ss"),(1-$Y25+$Z25),$Z25-$Y25))+IF(OR($AB25="",$AB25=0),0,(IF(TEXT($AB25,"[hh]:mm:ss")<TEXT($AA25,"[hh]:mm:ss"),(1-$AA25+$AB25),$AB25-$AA25))))) -> 0 | K25: =IF($A25="",0,IF(OR((VLOOKUP($A25,$T$6:$V$13,3,FALSE)-$I25)<0,$Y25=""),0,(VLOOKUP($A25,$T$6:$V$13,3,FALSE)-$I25))) -> 0 | M25: =IF($A25="",0,IF(($I25-VLOOKUP($A25,$T$6:$V$13,3,FALSE))<0,0,($I25-VLOOKUP($A25,$T$6:$V$13,3,FALSE)))) -> 0 | Q25: =IF($A25="",0,IF($M25<=VLOOKUP($A25,PREMISSAS!$A$4:$H$11,4,FALSE),$M25,VLOOKUP($A25,PREMISSAS!$A$4:$H$11,4,FALSE))) -> 0 | S25: =IF($A25="",0,IF($M25>VLOOKUP($A25,PREMISSAS!$A$4:$H$11,4,FALSE),$M25-VLOOKUP($A25,PREMISSAS!$A$4:$H$11,4,FALSE),0)) -> 0 | Y25: =IF(OR(D25="",D25=0,D25="FALTA",D25="SUSPENSO",D25="SUSPENSÃO"),"",TEXT(D25,"##"":""##")) | Z25: =IF(OR(E25="",E25=0,E25="FALTA",E25="SUSPENSO",E25="SUSPENSÃO"),"",TEXT(E25,"##"":""##")) | AA25: =IF(OR(F25="",F25=0,F25="FALTA",F25="SUSPENSO",F25="SUSPENSÃO"),"",TEXT(F25,"##"":""##")) | AB25: =IF(OR(G25="",G25=0,G25="FALTA",G25="SUSPENSO",G25="SUSPENSÃO"),"",TEXT(G25,"##"":""##"))
A26: =IF(NOT(ISERROR(VLOOKUP(B26,rngFeriados,1,FALSE))),"F",IF(B26="","",WEEKDAY($B26,1))) -> F | B26: =IF(B25="","",IF((B25+1)>CAPA!$E$4,"",B25+1)) -> 42694 | C26: =IF(B26="","",IF(WEEKDAY(B26,1)=1,"Domingo",IF(WEEKDAY(B26,1)=2,"Segunda",IF(WEEKDAY(B26,1)=3,"Terça",IF(WEEKDAY(B26,1)=4,"Quarta",IF(WEEKDAY(B26,1)=5,"Quinta",IF(WEEKDAY(B26,1)=6,"Sexta",IF(WEEKDAY(B26,1)=7,"Sábado")))))))) -> Domingo | I26: =IF(ISERROR(IF(OR($Z26="",$Z26=0),0,(IF(TEXT($Z26,"[hh]:mm:ss")<TEXT($Y26,"[hh]:mm:ss"),(1-$Y26+$Z26),$Z26-$Y26))+IF(OR($AB26="",$AB26=0),0,(IF(TEXT($AB26,"[hh]:mm:ss")<TEXT($AA26,"[hh]:mm:ss"),(1-$AA26+$AB26),$AB26-$AA26))))),0,IF(OR($Z26="",$Z26=0),0,(IF(TEXT($Z26,"[hh]:mm:ss")<TEXT($Y26,"[hh]:mm:ss"),(1-$Y26+$Z26),$Z26-$Y26))+IF(OR($AB26="",$AB26=0),0,(IF(TEXT($AB26,"[hh]:mm:ss")<TEXT($AA26,"[hh]:mm:ss"),(1-$AA26+$AB26),$AB26-$AA26))))) -> 0 | K26: =IF($A26="",0,IF(OR((VLOOKUP($A26,$T$6:$V$13,3,FALSE)-$I26)<0,$Y26=""),0,(VLOOKUP($A26,$T$6:$V$13,3,FALSE)-$I26))) -> 0 | M26: =IF($A26="",0,IF(($I26-VLOOKUP($A26,$T$6:$V$13,3,FALSE))<0,0,($I26-VLOOKUP($A26,$T$6:$V$13,3,FALSE)))) -> 0 | Q26: =IF($A26="",0,IF($M26<=VLOOKUP($A26,PREMISSAS!$A$4:$H$11,4,FALSE),$M26,VLOOKUP($A26,PREMISSAS!$A$4:$H$11,4,FALSE))) -> 0 | S26: =IF($A26="",0,IF($M26>VLOOKUP($A26,PREMISSAS!$A$4:$H$11,4,FALSE),$M26-VLOOKUP($A26,PREMISSAS!$A$4:$H$11,4,FALSE),0)) -> 0 | Y26: =IF(OR(D26="",D26=0,D26="FALTA",D26="SUSPENSO",D26="SUSPENSÃO"),"",TEXT(D26,"##"":""##")) | Z26: =IF(OR(E26="",E26=0,E26="FALTA",E26="SUSPENSO",E26="SUSPENSÃO"),"",TEXT(E26,"##"":""##")) | AA26: =IF(OR(F26="",F26=0,F26="FALTA",F26="SUSPENSO",F26="SUSPENSÃO"),"",TEXT(F26,"##"":""##")) | AB26: =IF(OR(G26="",G26=0,G26="FALTA",G26="SUSPENSO",G26="SUSPENSÃO"),"",TEXT(G26,"##"":""##"))
A27: =IF(NOT(ISERROR(VLOOKUP(B27,rngFeriados,1,FALSE))),"F",IF(B27="","",WEEKDAY($B27,1))) -> 2 | B27: =IF(B26="","",IF((B26+1)>CAPA!$E$4,"",B26+1)) -> 42695 | C27: =IF(B27="","",IF(WEEKDAY(B27,1)=1,"Domingo",IF(WEEKDAY(B27,1)=2,"Segunda",IF(WEEKDAY(B27,1)=3,"Terça",IF(WEEKDAY(B27,1)=4,"Quarta",IF(WEEKDAY(B27,1)=5,"Quinta",IF(WEEKDAY(B27,1)=6,"Sexta",IF(WEEKDAY(B27,1)=7,"Sábado")))))))) -> Segunda | D27: 728 | E27: 1200 | F27: 1200 | G27: 1903 | I27: =IF(ISERROR(IF(OR($Z27="",$Z27=0),0,(IF(TEXT($Z27,"[hh]:mm:ss")<TEXT($Y27,"[hh]:mm:ss"),(1-$Y27+$Z27),$Z27-$Y27))+IF(OR($AB27="",$AB27=0),0,(IF(TEXT($AB27,"[hh]:mm:ss")<TEXT($AA27,"[hh]:mm:ss"),(1-$AA27+$AB27),$AB27-$AA27))))),0,IF(OR($Z27="",$Z27=0),0,(IF(TEXT($Z27,"[hh]:mm:ss")<TEXT($Y27,"[hh]:mm:ss"),(1-$Y27+$Z27),$Z27-$Y27))+IF(OR($AB27="",$AB27=0),0,(IF(TEXT($AB27,"[hh]:mm:ss")<TEXT($AA27,"[hh]:mm:ss"),(1-$AA27+$AB27),$AB27-$AA27))))) -> 0.48263889 | K27: =IF($A27="",0,IF(OR((VLOOKUP($A27,$T$6:$V$13,3,FALSE)-$I27)<0,$Y27=""),0,(VLOOKUP($A27,$T$6:$V$13,3,FALSE)-$I27))) -> 0 | M27: =IF($A27="",0,IF(($I27-VLOOKUP($A27,$T$6:$V$13,3,FALSE))<0,0,($I27-VLOOKUP($A27,$T$6:$V$13,3,FALSE)))) -> 0.10763889 | Q27: =IF($A27="",0,IF($M27<=VLOOKUP($A27,PREMISSAS!$A$4:$H$11,4,FALSE),$M27,VLOOKUP($A27,PREMISSAS!$A$4:$H$11,4,FALSE))) -> 0.10763889 | S27: =IF($A27="",0,IF($M27>VLOOKUP($A27,PREMISSAS!$A$4:$H$11,4,FALSE),$M27-VLOOKUP($A27,PREMISSAS!$A$4:$H$11,4,FALSE),0)) -> 0 | Y27: =IF(OR(D27="",D27=0,D27="FALTA",D27="SUSPENSO",D27="SUSPENSÃO"),"",TEXT(D27,"##"":""##")) -> 7:28 | Z27: =IF(OR(E27="",E27=0,E27="FALTA",E27="SUSPENSO",E27="SUSPENSÃO"),"",TEXT(E27,"##"":""##")) -> 12:00 | AA27: =IF(OR(F27="",F27=0,F27="FALTA",F27="SUSPENSO",F27="SUSPENSÃO"),"",TEXT(F27,"##"":""##")) -> 12:00 | AB27: =IF(OR(G27="",G27=0,G27="FALTA",G27="SUSPENSO",G27="SUSPENSÃO"),"",TEXT(G27,"##"":""##")) -> 19:03
A28: =IF(NOT(ISERROR(VLOOKUP(B28,rngFeriados,1,FALSE))),"F",IF(B28="","",WEEKDAY($B28,1))) -> 3 | B28: =IF(B27="","",IF((B27+1)>CAPA!$E$4,"",B27+1)) -> 42696 | C28: =IF(B28="","",IF(WEEKDAY(B28,1)=1,"Domingo",IF(WEEKDAY(B28,1)=2,"Segunda",IF(WEEKDAY(B28,1)=3,"Terça",IF(WEEKDAY(B28,1)=4,"Quarta",IF(WEEKDAY(B28,1)=5,"Quinta",IF(WEEKDAY(B28,1)=6,"Sexta",IF(WEEKDAY(B28,1)=7,"Sábado")))))))) -> Terça | D28: 524 | E28: 1200 | F28: 1200 | G28: 1846 | I28: =IF(ISERROR(IF(OR($Z28="",$Z28=0),0,(IF(TEXT($Z28,"[hh]:mm:ss")<TEXT($Y28,"[hh]:mm:ss"),(1-$Y28+$Z28),$Z28-$Y28))+IF(OR($AB28="",$AB28=0),0,(IF(TEXT($AB28,"[hh]:mm:ss")<TEXT($AA28,"[hh]:mm:ss"),(1-$AA28+$AB28),$AB28-$AA28))))),0,IF(OR($Z28="",$Z28=0),0,(IF(TEXT($Z28,"[hh]:mm:ss")<TEXT($Y28,"[hh]:mm:ss"),(1-$Y28+$Z28),$Z28-$Y28))+IF(OR($AB28="",$AB28=0),0,(IF(TEXT($AB28,"[hh]:mm:ss")<TEXT($AA28,"[hh]:mm:ss"),(1-$AA28+$AB28),$AB28-$AA28))))) -> 0.55694444 | K28: =IF($A28="",0,IF(OR((VLOOKUP($A28,$T$6:$V$13,3,FALSE)-$I28)<0,$Y28=""),0,(VLOOKUP($A28,$T$6:$V$13,3,FALSE)-$I28))) -> 0 | M28: =IF($A28="",0,IF(($I28-VLOOKUP($A28,$T$6:$V$13,3,FALSE))<0,0,($I28-VLOOKUP($A28,$T$6:$V$13,3,FALSE)))) -> 0.18194444 | Q28: =IF($A28="",0,IF($M28<=VLOOKUP($A28,PREMISSAS!$A$4:$H$11,4,FALSE),$M28,VLOOKUP($A28,PREMISSAS!$A$4:$H$11,4,FALSE))) -> 0.18194444 | S28: =IF($A28="",0,IF($M28>VLOOKUP($A28,PREMISSAS!$A$4:$H$11,4,FALSE),$M28-VLOOKUP($A28,PREMISSAS!$A$4:$H$11,4,FALSE),0)) -> 0 | Y28: =IF(OR(D28="",D28=0,D28="FALTA",D28="SUSPENSO",D28="SUSPENSÃO"),"",TEXT(D28,"##"":""##")) -> 5:24 | Z28: =IF(OR(E28="",E28=0,E28="FALTA",E28="SUSPENSO",E28="SUSPENSÃO"),"",TEXT(E28,"##"":""##")) -> 12:00 | AA28: =IF(OR(F28="",F28=0,F28="FALTA",F28="SUSPENSO",F28="SUSPENSÃO"),"",TEXT(F28,"##"":""##")) -> 12:00 | AB28: =IF(OR(G28="",G28=0,G28="FALTA",G28="SUSPENSO",G28="SUSPENSÃO"),"",TEXT(G28,"##"":""##")) -> 18:46
A29: =IF(NOT(ISERROR(VLOOKUP(B29,rngFeriados,1,FALSE))),"F",IF(B29="","",WEEKDAY($B29,1))) -> 4 | B29: =IF(B28="","",IF((B28+1)>CAPA!$E$4,"",B28+1)) -> 42697 | C29: =IF(B29="","",IF(WEEKDAY(B29,1)=1,"Domingo",IF(WEEKDAY(B29,1)=2,"Segunda",IF(WEEKDAY(B29,1)=3,"Terça",IF(WEEKDAY(B29,1)=4,"Quarta",IF(WEEKDAY(B29,1)=5,"Quinta",IF(WEEKDAY(B29,1)=6,"Sexta",IF(WEEKDAY(B29,1)=7,"Sábado")))))))) -> Quarta | D29: 519 | E29: 1200 | F29: 1200 | G29: 1819 | I29: =IF(ISERROR(IF(OR($Z29="",$Z29=0),0,(IF(TEXT($Z29,"[hh]:mm:ss")<TEXT($Y29,"[hh]:mm:ss"),(1-$Y29+$Z29),$Z29-$Y29))+IF(OR($AB29="",$AB29=0),0,(IF(TEXT($AB29,"[hh]:mm:ss")<TEXT($AA29,"[hh]:mm:ss"),(1-$AA29+$AB29),$AB29-$AA29))))),0,IF(OR($Z29="",$Z29=0),0,(IF(TEXT($Z29,"[hh]:mm:ss")<TEXT($Y29,"[hh]:mm:ss"),(1-$Y29+$Z29),$Z29-$Y29))+IF(OR($AB29="",$AB29=0),0,(IF(TEXT($AB29,"[hh]:mm:ss")<TEXT($AA29,"[hh]:mm:ss"),(1-$AA29+$AB29),$AB29-$AA29))))) -> 0.54166667 | K29: =IF($A29="",0,IF(OR((VLOOKUP($A29,$T$6:$V$13,3,FALSE)-$I29)<0,$Y29=""),0,(VLOOKUP($A29,$T$6:$V$13,3,FALSE)-$I29))) -> 0 | M29: =IF($A29="",0,IF(($I29-VLOOKUP($A29,$T$6:$V$13,3,FALSE))<0,0,($I29-VLOOKUP($A29,$T$6:$V$13,3,FALSE)))) -> 0.16666667 | Q29: =IF($A29="",0,IF($M29<=VLOOKUP($A29,PREMISSAS!$A$4:$H$11,4,FALSE),$M29,VLOOKUP($A29,PREMISSAS!$A$4:$H$11,4,FALSE))) -> 0.16666667 | S29: =IF($A29="",0,IF($M29>VLOOKUP($A29,PREMISSAS!$A$4:$H$11,4,FALSE),$M29-VLOOKUP($A29,PREMISSAS!$A$4:$H$11,4,FALSE),0)) -> 0 | Y29: =IF(OR(D29="",D29=0,D29="FALTA",D29="SUSPENSO",D29="SUSPENSÃO"),"",TEXT(D29,"##"":""##")) -> 5:19 | Z29: =IF(OR(E29="",E29=0,E29="FALTA",E29="SUSPENSO",E29="SUSPENSÃO"),"",TEXT(E29,"##"":""##")) -> 12:00 | AA29: =IF(OR(F29="",F29=0,F29="FALTA",F29="SUSPENSO",F29="SUSPENSÃO"),"",TEXT(F29,"##"":""##")) -> 12:00 | AB29: =IF(OR(G29="",G29=0,G29="FALTA",G29="SUSPENSO",G29="SUSPENSÃO"),"",TEXT(G29,"##"":""##")) -> 18:19
A30: =IF(NOT(ISERROR(VLOOKUP(B30,rngFeriados,1,FALSE))),"F",IF(B30="","",WEEKDAY($B30,1))) -> 5 | B30: =IF(B29="","",IF((B29+1)>CAPA!$E$4,"",B29+1)) -> 42698 | C30: =IF(B30="","",IF(WEEKDAY(B30,1)=1,"Domingo",IF(WEEKDAY(B30,1)=2,"Segunda",IF(WEEKDAY(B30,1)=3,"Terça",IF(WEEKDAY(B30,1)=4,"Quarta",IF(WEEKDAY(B30,1)=5,"Quinta",IF(WEEKDAY(B30,1)=6,"Sexta",IF(WEEKDAY(B30,1)=7,"Sábado")))))))) -> Quinta | D30: 745 | E30: 1200 | F30: 1200 | G30: 1933 | I30: =IF(ISERROR(IF(OR($Z30="",$Z30=0),0,(IF(TEXT($Z30,"[hh]:mm:ss")<TEXT($Y30,"[hh]:mm:ss"),(1-$Y30+$Z30),$Z30-$Y30))+IF(OR($AB30="",$AB30=0),0,(IF(TEXT($AB30,"[hh]:mm:ss")<TEXT($AA30,"[hh]:mm:ss"),(1-$AA30+$AB30),$AB30-$AA30))))),0,IF(OR($Z30="",$Z30=0),0,(IF(TEXT($Z30,"[hh]:mm:ss")<TEXT($Y30,"[hh]:mm:ss"),(1-$Y30+$Z30),$Z30-$Y30))+IF(OR($AB30="",$AB30=0),0,(IF(TEXT($AB30,"[hh]:mm:ss")<TEXT($AA30,"[hh]:mm:ss"),(1-$AA30+$AB30),$AB30-$AA30))))) -> 0.49166667 | K30: =IF($A30="",0,IF(OR((VLOOKUP($A30,$T$6:$V$13,3,FALSE)-$I30)<0,$Y30=""),0,(VLOOKUP($A30,$T$6:$V$13,3,FALSE)-$I30))) -> 0 | M30: =IF($A30="",0,IF(($I30-VLOOKUP($A30,$T$6:$V$13,3,FALSE))<0,0,($I30-VLOOKUP($A30,$T$6:$V$13,3,FALSE)))) -> 0.11666667 | Q30: =IF($A30="",0,IF($M30<=VLOOKUP($A30,PREMISSAS!$A$4:$H$11,4,FALSE),$M30,VLOOKUP($A30,PREMISSAS!$A$4:$H$11,4,FALSE))) -> 0.11666667 | S30: =IF($A30="",0,IF($M30>VLOOKUP($A30,PREMISSAS!$A$4:$H$11,4,FALSE),$M30-VLOOKUP($A30,PREMISSAS!$A$4:$H$11,4,FALSE),0)) -> 0 | Y30: =IF(OR(D30="",D30=0,D30="FALTA",D30="SUSPENSO",D30="SUSPENSÃO"),"",TEXT(D30,"##"":""##")) -> 7:45 | Z30: =IF(OR(E30="",E30=0,E30="FALTA",E30="SUSPENSO",E30="SUSPENSÃO"),"",TEXT(E30,"##"":""##")) -> 12:00 | AA30: =IF(OR(F30="",F30=0,F30="FALTA",F30="SUSPENSO",F30="SUSPENSÃO"),"",TEXT(F30,"##"":""##")) -> 12:00 | AB30: =IF(OR(G30="",G30=0,G30="FALTA",G30="SUSPENSO",G30="SUSPENSÃO"),"",TEXT(G30,"##"":""##")) -> 19:33
A31: =IF(NOT(ISERROR(VLOOKUP(B31,rngFeriados,1,FALSE))),"F",IF(B31="","",WEEKDAY($B31,1))) -> 6 | B31: =IF(B30="","",IF((B30+1)>CAPA!$E$4,"",B30+1)) -> 42699 | C31: =IF(B31="","",IF(WEEKDAY(B31,1)=1,"Domingo",IF(WEEKDAY(B31,1)=2,"Segunda",IF(WEEKDAY(B31,1)=3,"Terça",IF(WEEKDAY(B31,1)=4,"Quarta",IF(WEEKDAY(B31,1)=5,"Quinta",IF(WEEKDAY(B31,1)=6,"Sexta",IF(WEEKDAY(B31,1)=7,"Sábado")))))))) -> Sexta | D31: 718 | E31: 1200 | F31: 1200 | G31: 1955 | I31: =IF(ISERROR(IF(OR($Z31="",$Z31=0),0,(IF(TEXT($Z31,"[hh]:mm:ss")<TEXT($Y31,"[hh]:mm:ss"),(1-$Y31+$Z31),$Z31-$Y31))+IF(OR($AB31="",$AB31=0),0,(IF(TEXT($AB31,"[hh]:mm:ss")<TEXT($AA31,"[hh]:mm:ss"),(1-$AA31+$AB31),$AB31-$AA31))))),0,IF(OR($Z31="",$Z31=0),0,(IF(TEXT($Z31,"[hh]:mm:ss")<TEXT($Y31,"[hh]:mm:ss"),(1-$Y31+$Z31),$Z31-$Y31))+IF(OR($AB31="",$AB31=0),0,(IF(TEXT($AB31,"[hh]:mm:ss")<TEXT($AA31,"[hh]:mm:ss"),(1-$AA31+$AB31),$AB31-$AA31))))) -> 0.52569444 | K31: =IF($A31="",0,IF(OR((VLOOKUP($A31,$T$6:$V$13,3,FALSE)-$I31)<0,$Y31=""),0,(VLOOKUP($A31,$T$6:$V$13,3,FALSE)-$I31))) -> 0 | M31: =IF($A31="",0,IF(($I31-VLOOKUP($A31,$T$6:$V$13,3,FALSE))<0,0,($I31-VLOOKUP($A31,$T$6:$V$13,3,FALSE)))) -> 0.19236111 | Q31: =IF($A31="",0,IF($M31<=VLOOKUP($A31,PREMISSAS!$A$4:$H$11,4,FALSE),$M31,VLOOKUP($A31,PREMISSAS!$A$4:$H$11,4,FALSE))) -> 0.19236111 | S31: =IF($A31="",0,IF($M31>VLOOKUP($A31,PREMISSAS!$A$4:$H$11,4,FALSE),$M31-VLOOKUP($A31,PREMISSAS!$A$4:$H$11,4,FALSE),0)) -> 0 | Y31: =IF(OR(D31="",D31=0,D31="FALTA",D31="SUSPENSO",D31="SUSPENSÃO"),"",TEXT(D31,"##"":""##")) -> 7:18 | Z31: =IF(OR(E31="",E31=0,E31="FALTA",E31="SUSPENSO",E31="SUSPENSÃO"),"",TEXT(E31,"##"":""##")) -> 12:00 | AA31: =IF(OR(F31="",F31=0,F31="FALTA",F31="SUSPENSO",F31="SUSPENSÃO"),"",TEXT(F31,"##"":""##")) -> 12:00 | AB31: =IF(OR(G31="",G31=0,G31="FALTA",G31="SUSPENSO",G31="SUSPENSÃO"),"",TEXT(G31,"##"":""##")) -> 19:55
A32: =IF(NOT(ISERROR(VLOOKUP(B32,rngFeriados,1,FALSE))),"F",IF(B32="","",WEEKDAY($B32,1))) -> 7 | B32: =IF(B31="","",IF((B31+1)>CAPA!$E$4,"",B31+1)) -> 42700 | C32: =IF(B32="","",IF(WEEKDAY(B32,1)=1,"Domingo",IF(WEEKDAY(B32,1)=2,"Segunda",IF(WEEKDAY(B32,1)=3,"Terça",IF(WEEKDAY(B32,1)=4,"Quarta",IF(WEEKDAY(B32,1)=5,"Quinta",IF(WEEKDAY(B32,1)=6,"Sexta",IF(WEEKDAY(B32,1)=7,"Sábado")))))))) -> Sábado | I32: =IF(ISERROR(IF(OR($Z32="",$Z32=0),0,(IF(TEXT($Z32,"[hh]:mm:ss")<TEXT($Y32,"[hh]:mm:ss"),(1-$Y32+$Z32),$Z32-$Y32))+IF(OR($AB32="",$AB32=0),0,(IF(TEXT($AB32,"[hh]:mm:ss")<TEXT($AA32,"[hh]:mm:ss"),(1-$AA32+$AB32),$AB32-$AA32))))),0,IF(OR($Z32="",$Z32=0),0,(IF(TEXT($Z32,"[hh]:mm:ss")<TEXT($Y32,"[hh]:mm:ss"),(1-$Y32+$Z32),$Z32-$Y32))+IF(OR($AB32="",$AB32=0),0,(IF(TEXT($AB32,"[hh]:mm:ss")<TEXT($AA32,"[hh]:mm:ss"),(1-$AA32+$AB32),$AB32-$AA32))))) -> 0 | K32: =IF($A32="",0,IF(OR((VLOOKUP($A32,$T$6:$V$13,3,FALSE)-$I32)<0,$Y32=""),0,(VLOOKUP($A32,$T$6:$V$13,3,FALSE)-$I32))) -> 0 | M32: =IF($A32="",0,IF(($I32-VLOOKUP($A32,$T$6:$V$13,3,FALSE))<0,0,($I32-VLOOKUP($A32,$T$6:$V$13,3,FALSE)))) -> 0 | Q32: =IF($A32="",0,IF($M32<=VLOOKUP($A32,PREMISSAS!$A$4:$H$11,4,FALSE),$M32,VLOOKUP($A32,PREMISSAS!$A$4:$H$11,4,FALSE))) -> 0 | S32: =IF($A32="",0,IF($M32>VLOOKUP($A32,PREMISSAS!$A$4:$H$11,4,FALSE),$M32-VLOOKUP($A32,PREMISSAS!$A$4:$H$11,4,FALSE),0)) -> 0 | Y32: =IF(OR(D32="",D32=0,D32="FALTA",D32="SUSPENSO",D32="SUSPENSÃO"),"",TEXT(D32,"##"":""##")) | Z32: =IF(OR(E32="",E32=0,E32="FALTA",E32="SUSPENSO",E32="SUSPENSÃO"),"",TEXT(E32,"##"":""##")) | AA32: =IF(OR(F32="",F32=0,F32="FALTA",F32="SUSPENSO",F32="SUSPENSÃO"),"",TEXT(F32,"##"":""##")) | AB32: =IF(OR(G32="",G32=0,G32="FALTA",G32="SUSPENSO",G32="SUSPENSÃO"),"",TEXT(G32,"##"":""##"))
A33: =IF(NOT(ISERROR(VLOOKUP(B33,rngFeriados,1,FALSE))),"F",IF(B33="","",WEEKDAY($B33,1))) -> 1 | B33: =IF(B32="","",IF((B32+1)>CAPA!$E$4,"",B32+1)) -> 42701 | C33: =IF(B33="","",IF(WEEKDAY(B33,1)=1,"Domingo",IF(WEEKDAY(B33,1)=2,"Segunda",IF(WEEKDAY(B33,1)=3,"Terça",IF(WEEKDAY(B33,1)=4,"Quarta",IF(WEEKDAY(B33,1)=5,"Quinta",IF(WEEKDAY(B33,1)=6,"Sexta",IF(WEEKDAY(B33,1)=7,"Sábado")))))))) -> Domingo | I33: =IF(ISERROR(IF(OR($Z33="",$Z33=0),0,(IF(TEXT($Z33,"[hh]:mm:ss")<TEXT($Y33,"[hh]:mm:ss"),(1-$Y33+$Z33),$Z33-$Y33))+IF(OR($AB33="",$AB33=0),0,(IF(TEXT($AB33,"[hh]:mm:ss")<TEXT($AA33,"[hh]:mm:ss"),(1-$AA33+$AB33),$AB33-$AA33))))),0,IF(OR($Z33="",$Z33=0),0,(IF(TEXT($Z33,"[hh]:mm:ss")<TEXT($Y33,"[hh]:mm:ss"),(1-$Y33+$Z33),$Z33-$Y33))+IF(OR($AB33="",$AB33=0),0,(IF(TEXT($AB33,"[hh]:mm:ss")<TEXT($AA33,"[hh]:mm:ss"),(1-$AA33+$AB33),$AB33-$AA33))))) -> 0 | K33: =IF($A33="",0,IF(OR((VLOOKUP($A33,$T$6:$V$13,3,FALSE)-$I33)<0,$Y33=""),0,(VLOOKUP($A33,$T$6:$V$13,3,FALSE)-$I33))) -> 0 | M33: =IF($A33="",0,IF(($I33-VLOOKUP($A33,$T$6:$V$13,3,FALSE))<0,0,($I33-VLOOKUP($A33,$T$6:$V$13,3,FALSE)))) -> 0 | Q33: =IF($A33="",0,IF($M33<=VLOOKUP($A33,PREMISSAS!$A$4:$H$11,4,FALSE),$M33,VLOOKUP($A33,PREMISSAS!$A$4:$H$11,4,FALSE))) -> 0 | S33: =IF($A33="",0,IF($M33>VLOOKUP($A33,PREMISSAS!$A$4:$H$11,4,FALSE),$M33-VLOOKUP($A33,PREMISSAS!$A$4:$H$11,4,FALSE),0)) -> 0 | Y33: =IF(OR(D33="",D33=0,D33="FALTA",D33="SUSPENSO",D33="SUSPENSÃO"),"",TEXT(D33,"##"":""##")) | Z33: =IF(OR(E33="",E33=0,E33="FALTA",E33="SUSPENSO",E33="SUSPENSÃO"),"",TEXT(E33,"##"":""##")) | AA33: =IF(OR(F33="",F33=0,F33="FALTA",F33="SUSPENSO",F33="SUSPENSÃO"),"",TEXT(F33,"##"":""##")) | AB33: =IF(OR(G33="",G33=0,G33="FALTA",G33="SUSPENSO",G33="SUSPENSÃO"),"",TEXT(G33,"##"":""##"))
A34: =IF(NOT(ISERROR(VLOOKUP(B34,rngFeriados,1,FALSE))),"F",IF(B34="","",WEEKDAY($B34,1))) -> 2 | B34: =IF(B33="","",IF((B33+1)>CAPA!$E$4,"",B33+1)) -> 42702 | C34: =IF(B34="","",IF(WEEKDAY(B34,1)=1,"Domingo",IF(WEEKDAY(B34,1)=2,"Segunda",IF(WEEKDAY(B34,1)=3,"Terça",IF(WEEKDAY(B34,1)=4,"Quarta",IF(WEEKDAY(B34,1)=5,"Quinta",IF(WEEKDAY(B34,1)=6,"Sexta",IF(WEEKDAY(B34,1)=7,"Sábado")))))))) -> Segunda | D34: 518 | E34: 1200 | F34: 1200 | G34: 1716 | I34: =IF(ISERROR(IF(OR($Z34="",$Z34=0),0,(IF(TEXT($Z34,"[hh]:mm:ss")<TEXT($Y34,"[hh]:mm:ss"),(1-$Y34+$Z34),$Z34-$Y34))+IF(OR($AB34="",$AB34=0),0,(IF(TEXT($AB34,"[hh]:mm:ss")<TEXT($AA34,"[hh]:mm:ss"),(1-$AA34+$AB34),$AB34-$AA34))))),0,IF(OR($Z34="",$Z34=0),0,(IF(TEXT($Z34,"[hh]:mm:ss")<TEXT($Y34,"[hh]:mm:ss"),(1-$Y34+$Z34),$Z34-$Y34))+IF(OR($AB34="",$AB34=0),0,(IF(TEXT($AB34,"[hh]:mm:ss")<TEXT($AA34,"[hh]:mm:ss"),(1-$AA34+$AB34),$AB34-$AA34))))) -> 0.49861111 | K34: =IF($A34="",0,IF(OR((VLOOKUP($A34,$T$6:$V$13,3,FALSE)-$I34)<0,$Y34=""),0,(VLOOKUP($A34,$T$6:$V$13,3,FALSE)-$I34))) -> 0 | M34: =IF($A34="",0,IF(($I34-VLOOKUP($A34,$T$6:$V$13,3,FALSE))<0,0,($I34-VLOOKUP($A34,$T$6:$V$13,3,FALSE)))) -> 0.12361111 | Q34: =IF($A34="",0,IF($M34<=VLOOKUP($A34,PREMISSAS!$A$4:$H$11,4,FALSE),$M34,VLOOKUP($A34,PREMISSAS!$A$4:$H$11,4,FALSE))) -> 0.12361111 | S34: =IF($A34="",0,IF($M34>VLOOKUP($A34,PREMISSAS!$A$4:$H$11,4,FALSE),$M34-VLOOKUP($A34,PREMISSAS!$A$4:$H$11,4,FALSE),0)) -> 0 | Y34: =IF(OR(D34="",D34=0,D34="FALTA",D34="SUSPENSO",D34="SUSPENSÃO"),"",TEXT(D34,"##"":""##")) -> 5:18 | Z34: =IF(OR(E34="",E34=0,E34="FALTA",E34="SUSPENSO",E34="SUSPENSÃO"),"",TEXT(E34,"##"":""##")) -> 12:00 | AA34: =IF(OR(F34="",F34=0,F34="FALTA",F34="SUSPENSO",F34="SUSPENSÃO"),"",TEXT(F34,"##"":""##")) -> 12:00 | AB34: =IF(OR(G34="",G34=0,G34="FALTA",G34="SUSPENSO",G34="SUSPENSÃO"),"",TEXT(G34,"##"":""##")) -> 17:16
